BEGIN:VCALENDAR
VERSION:2.0
PRODID:-//vallentunaosseby.se - ECPv6.15.20//NONSGML v1.0//EN
CALSCALE:GREGORIAN
METHOD:PUBLISH
X-WR-CALNAME:vallentunaosseby.se
X-ORIGINAL-URL:https://vallentunaosseby.se
X-WR-CALDESC:Händelser för vallentunaosseby.se
REFRESH-INTERVAL;VALUE=DURATION:PT1H
X-Robots-Tag:noindex
X-PUBLISHED-TTL:PT1H
BEGIN:VTIMEZONE
TZID:Europe/Stockholm
BEGIN:DAYLIGHT
TZOFFSETFROM:+0100
TZOFFSETTO:+0200
TZNAME:CEST
DTSTART:20220327T010000
END:DAYLIGHT
BEGIN:STANDARD
TZOFFSETFROM:+0200
TZOFFSETTO:+0100
TZNAME:CET
DTSTART:20221030T010000
END:STANDARD
BEGIN:DAYLIGHT
TZOFFSETFROM:+0100
TZOFFSETTO:+0200
TZNAME:CEST
DTSTART:20230326T010000
END:DAYLIGHT
BEGIN:STANDARD
TZOFFSETFROM:+0200
TZOFFSETTO:+0100
TZNAME:CET
DTSTART:20231029T010000
END:STANDARD
BEGIN:DAYLIGHT
TZOFFSETFROM:+0100
TZOFFSETTO:+0200
TZNAME:CEST
DTSTART:20240331T010000
END:DAYLIGHT
BEGIN:STANDARD
TZOFFSETFROM:+0200
TZOFFSETTO:+0100
TZNAME:CET
DTSTART:20241027T010000
END:STANDARD
END:VTIMEZONE
BEGIN:VEVENT
DTSTART;TZID=Europe/Stockholm:20231001T100000
DTEND;TZID=Europe/Stockholm:20231001T120000
DTSTAMP:20260423T182514
CREATED:20230607T183307Z
LAST-MODIFIED:20230607T183326Z
UID:2060-1696154400-1696161600@vallentunaosseby.se
SUMMARY:Waxholms OK\, långdistans
DESCRIPTION:Eventor – Tävlingsinformation: Waxholms OK\, långdistans (orientering.se)
URL:https://vallentunaosseby.se/event/waxholms-ok-langdistans/
END:VEVENT
BEGIN:VEVENT
DTSTART;TZID=Europe/Stockholm:20231003T180000
DTEND;TZID=Europe/Stockholm:20231003T193000
DTSTAMP:20260423T182514
CREATED:20230820T194737Z
LAST-MODIFIED:20230820T194821Z
UID:2156-1696356000-1696361400@vallentunaosseby.se
SUMMARY:Ungdomsträning med träning för alla
DESCRIPTION:Klubbstugan\, ÖIP
URL:https://vallentunaosseby.se/event/ungdomstraning-med-traning-for-alla-14/
END:VEVENT
BEGIN:VEVENT
DTSTART;TZID=Europe/Stockholm:20231005T180000
DTEND;TZID=Europe/Stockholm:20231005T193000
DTSTAMP:20260423T182514
CREATED:20230926T113742Z
LAST-MODIFIED:20230926T113858Z
UID:2247-1696528800-1696534200@vallentunaosseby.se
SUMMARY:Torsdagsfys - träning för alla
DESCRIPTION:Vi utgår från klubbstugan och springer intervaller eller backe.Dusch och soppa med mackor efteråt för de som vill.
URL:https://vallentunaosseby.se/event/torsdagsfys-traning-for-alla-11/
END:VEVENT
BEGIN:VEVENT
DTSTART;TZID=Europe/Stockholm:20231007T090000
DTEND;TZID=Europe/Stockholm:20231007T150000
DTSTAMP:20260423T182514
CREATED:20230607T183416Z
LAST-MODIFIED:20230607T183431Z
UID:2063-1696669200-1696690800@vallentunaosseby.se
SUMMARY:25-manna
DESCRIPTION:Eventor – Tävlingsinformation: 25manna (orientering.se)
URL:https://vallentunaosseby.se/event/25-manna/
END:VEVENT
BEGIN:VEVENT
DTSTART;TZID=Europe/Stockholm:20231008T100000
DTEND;TZID=Europe/Stockholm:20231008T120000
DTSTAMP:20260423T182514
CREATED:20230607T183530Z
LAST-MODIFIED:20230607T183531Z
UID:2066-1696759200-1696766400@vallentunaosseby.se
SUMMARY:25-mannamedeln
DESCRIPTION:Eventor – Tävlingsinformation: 25mannamedeln (orientering.se)
URL:https://vallentunaosseby.se/event/25-mannamedeln/
END:VEVENT
BEGIN:VEVENT
DTSTART;TZID=Europe/Stockholm:20231010T180000
DTEND;TZID=Europe/Stockholm:20231010T193000
DTSTAMP:20260423T182514
CREATED:20230821T053320Z
LAST-MODIFIED:20230821T053342Z
UID:2160-1696960800-1696966200@vallentunaosseby.se
SUMMARY:Ungdomsträning med träning för alla
DESCRIPTION:Rosendalsskolan Norra
URL:https://vallentunaosseby.se/event/ungdomstraning-med-traning-for-alla-15/
END:VEVENT
BEGIN:VEVENT
DTSTART;TZID=Europe/Stockholm:20231012T180000
DTEND;TZID=Europe/Stockholm:20231012T193000
DTSTAMP:20260423T182514
CREATED:20230926T113943Z
LAST-MODIFIED:20230926T114811Z
UID:2251-1697133600-1697139000@vallentunaosseby.se
SUMMARY:Torsdagsfys - träning för alla
DESCRIPTION:Vi utgår från klubbstugan och springer intervaller eller backe.Dusch och soppa med mackor efteråt för de som vill.
URL:https://vallentunaosseby.se/event/torsdagsfys-traning-for-alla-12/
END:VEVENT
BEGIN:VEVENT
DTSTART;TZID=Europe/Stockholm:20231014T100000
DTEND;TZID=Europe/Stockholm:20231014T120000
DTSTAMP:20260423T182514
CREATED:20230607T183641Z
LAST-MODIFIED:20230607T183641Z
UID:2068-1697277600-1697284800@vallentunaosseby.se
SUMMARY:Daladubbeln\, stafett
DESCRIPTION:Eventor – Tävlingsinformation: Daladubbeln\, stafett (orientering.se)
URL:https://vallentunaosseby.se/event/daladubbeln-stafett/
END:VEVENT
BEGIN:VEVENT
DTSTART;TZID=Europe/Stockholm:20231015T100000
DTEND;TZID=Europe/Stockholm:20231015T120000
DTSTAMP:20260423T182514
CREATED:20230607T183734Z
LAST-MODIFIED:20230607T183734Z
UID:2070-1697364000-1697371200@vallentunaosseby.se
SUMMARY:Daladubbeln\, patrull
DESCRIPTION:Eventor – Tävlingsinformation: Daladubbeln\, patrull (orientering.se)
URL:https://vallentunaosseby.se/event/daladubbeln-patrull/
END:VEVENT
BEGIN:VEVENT
DTSTART;TZID=Europe/Stockholm:20231016T190000
DTEND;TZID=Europe/Stockholm:20231016T210000
DTSTAMP:20260423T182514
CREATED:20230523T063025Z
LAST-MODIFIED:20230523T063026Z
UID:1976-1697482800-1697490000@vallentunaosseby.se
SUMMARY:Styrelsemöte
DESCRIPTION:Klubbstugan
URL:https://vallentunaosseby.se/event/styrelsemote-10/
END:VEVENT
BEGIN:VEVENT
DTSTART;TZID=Europe/Stockholm:20231017T180000
DTEND;TZID=Europe/Stockholm:20231017T193000
DTSTAMP:20260423T182514
CREATED:20230821T053435Z
LAST-MODIFIED:20230821T053446Z
UID:2164-1697565600-1697571000@vallentunaosseby.se
SUMMARY:Ungdomsträning med träning för alla
DESCRIPTION:Bällstabergsskolan
URL:https://vallentunaosseby.se/event/ungdomstraning-med-traning-for-alla-16/
END:VEVENT
BEGIN:VEVENT
DTSTART;TZID=Europe/Stockholm:20231019T180000
DTEND;TZID=Europe/Stockholm:20231019T193000
DTSTAMP:20260423T182514
CREATED:20230926T114014Z
LAST-MODIFIED:20230926T114830Z
UID:2253-1697738400-1697743800@vallentunaosseby.se
SUMMARY:Torsdagsfys - träning för alla
DESCRIPTION:Vi utgår från klubbstugan och springer intervaller eller backe.Dusch och soppa med mackor efteråt för de som vill.
URL:https://vallentunaosseby.se/event/torsdagsfys-traning-for-alla-13/
END:VEVENT
BEGIN:VEVENT
DTSTART;TZID=Europe/Stockholm:20231022T100000
DTEND;TZID=Europe/Stockholm:20231022T120000
DTSTAMP:20260423T182514
CREATED:20231015T191841Z
LAST-MODIFIED:20231015T191841Z
UID:2339-1697968800-1697976000@vallentunaosseby.se
SUMMARY:Arosträffen
DESCRIPTION:Eventor – Tävlingsinformation: Arosträffen (orientering.se)
URL:https://vallentunaosseby.se/event/arostraffen/
END:VEVENT
BEGIN:VEVENT
DTSTART;TZID=Europe/Stockholm:20231024T180000
DTEND;TZID=Europe/Stockholm:20231024T193000
DTSTAMP:20260423T182514
CREATED:20230821T053609Z
LAST-MODIFIED:20231022T184227Z
UID:2167-1698170400-1698175800@vallentunaosseby.se
SUMMARY:Ungdomsträning med träning för alla
DESCRIPTION:Halloween-träningSpökhuset på Lagmansvägen 1
URL:https://vallentunaosseby.se/event/ungdomstraning-med-traning-for-alla-17/
END:VEVENT
BEGIN:VEVENT
DTSTART;TZID=Europe/Stockholm:20231026T180000
DTEND;TZID=Europe/Stockholm:20231026T193000
DTSTAMP:20260423T182514
CREATED:20230926T114039Z
LAST-MODIFIED:20230926T114849Z
UID:2255-1698343200-1698348600@vallentunaosseby.se
SUMMARY:Torsdagsfys - träning för alla
DESCRIPTION:Vi utgår från klubbstugan och springer intervaller eller backe.Dusch och soppa med mackor efteråt för de som vill.
URL:https://vallentunaosseby.se/event/torsdagsfys-traning-for-alla-14/
END:VEVENT
BEGIN:VEVENT
DTSTART;TZID=Europe/Stockholm:20231028T170000
DTEND;TZID=Europe/Stockholm:20231028T190000
DTSTAMP:20260423T182514
CREATED:20230607T183915Z
LAST-MODIFIED:20230607T183915Z
UID:2072-1698512400-1698519600@vallentunaosseby.se
SUMMARY:Rodhenloppet
DESCRIPTION:Eventor – Tävlingsinformation: Rodhenloppet (orientering.se)
URL:https://vallentunaosseby.se/event/rodhenloppet/
END:VEVENT
BEGIN:VEVENT
DTSTART;TZID=Europe/Stockholm:20231102T180000
DTEND;TZID=Europe/Stockholm:20231102T193000
DTSTAMP:20260423T182514
CREATED:20230926T114111Z
LAST-MODIFIED:20230926T114904Z
UID:2257-1698948000-1698953400@vallentunaosseby.se
SUMMARY:Torsdagsfys - träning för alla
DESCRIPTION:Vi utgår från klubbstugan och springer intervaller eller backe.Dusch och soppa med mackor efteråt för de som vill.
URL:https://vallentunaosseby.se/event/torsdagsfys-traning-for-alla-15/
END:VEVENT
BEGIN:VEVENT
DTSTART;TZID=Europe/Stockholm:20231107T180000
DTEND;TZID=Europe/Stockholm:20231107T193000
DTSTAMP:20260423T182514
CREATED:20230821T053751Z
LAST-MODIFIED:20230821T053837Z
UID:2170-1699380000-1699385400@vallentunaosseby.se
SUMMARY:Ungdomsträning med träning för alla
DESCRIPTION:Hagaskolan
URL:https://vallentunaosseby.se/event/ungdomstraning-med-traning-for-alla-18/
END:VEVENT
BEGIN:VEVENT
DTSTART;TZID=Europe/Stockholm:20231108T180000
DTEND;TZID=Europe/Stockholm:20231108T200000
DTSTAMP:20260423T182514
CREATED:20231104T103051Z
LAST-MODIFIED:20231104T103405Z
UID:2356-1699466400-1699473600@vallentunaosseby.se
SUMMARY:UBN 1 - Uppland by Night
DESCRIPTION:Nattcup i Uppland \n\n\n\nAnmälan senast måndag 6/11 görs här: Eventor – Tävlingsinformation: Upplandsbygden By Night (UBN) Etapp 1 (orientering.se)
URL:https://vallentunaosseby.se/event/ubn-1/
END:VEVENT
BEGIN:VEVENT
DTSTART;TZID=Europe/Stockholm:20231109T180000
DTEND;TZID=Europe/Stockholm:20231109T193000
DTSTAMP:20260423T182514
CREATED:20230926T114238Z
LAST-MODIFIED:20230926T114920Z
UID:2259-1699552800-1699558200@vallentunaosseby.se
SUMMARY:Torsdagsfys - träning för alla
DESCRIPTION:Vi utgår från klubbstugan och springer intervaller eller backe.Dusch och soppa med mackor efteråt för de som vill.
URL:https://vallentunaosseby.se/event/torsdagsfys-traning-for-alla-16/
END:VEVENT
BEGIN:VEVENT
DTSTART;TZID=Europe/Stockholm:20231113T190000
DTEND;TZID=Europe/Stockholm:20231113T210000
DTSTAMP:20260423T182514
CREATED:20230523T063209Z
LAST-MODIFIED:20230523T063219Z
UID:1978-1699902000-1699909200@vallentunaosseby.se
SUMMARY:Styrelsemöte
DESCRIPTION:Klubbstugan
URL:https://vallentunaosseby.se/event/styrelsemote-11/
END:VEVENT
BEGIN:VEVENT
DTSTART;TZID=Europe/Stockholm:20231114T180000
DTEND;TZID=Europe/Stockholm:20231114T193000
DTSTAMP:20260423T182514
CREATED:20230821T053921Z
LAST-MODIFIED:20230821T053922Z
UID:2174-1699984800-1699990200@vallentunaosseby.se
SUMMARY:Ungdomsträning med träning för alla
DESCRIPTION:Hagaskolan
URL:https://vallentunaosseby.se/event/ungdomstraning-med-traning-for-alla-19/
END:VEVENT
BEGIN:VEVENT
DTSTART;TZID=Europe/Stockholm:20231115T190000
DTEND;TZID=Europe/Stockholm:20231115T200000
DTSTAMP:20260423T182514
CREATED:20231105T194722Z
LAST-MODIFIED:20231105T194823Z
UID:2379-1700074800-1700078400@vallentunaosseby.se
SUMMARY:SBN 1 - Stockholm by Night
DESCRIPTION:Nattcup \n\n\n\nStockholm by Night deltävling 1 arrangeras i Åkerberga: Eventor – Tävlingsinformation: Stockholm by Night\, #1 (orientering.se)
URL:https://vallentunaosseby.se/event/sbn-1/
END:VEVENT
BEGIN:VEVENT
DTSTART;TZID=Europe/Stockholm:20231116T180000
DTEND;TZID=Europe/Stockholm:20231116T190000
DTSTAMP:20260423T182514
CREATED:20230926T114345Z
LAST-MODIFIED:20230926T114346Z
UID:2261-1700157600-1700161200@vallentunaosseby.se
SUMMARY:Ungdomshoppastuds
DESCRIPTION:Yoump i Arninge
URL:https://vallentunaosseby.se/event/ungdomshoppastuds/
END:VEVENT
BEGIN:VEVENT
DTSTART;TZID=Europe/Stockholm:20231118T100000
DTEND;TZID=Europe/Stockholm:20231118T120000
DTSTAMP:20260423T182514
CREATED:20230814T144633Z
LAST-MODIFIED:20231104T105328Z
UID:2134-1700301600-1700308800@vallentunaosseby.se
SUMMARY:Skinkloppet
DESCRIPTION:Det var Astrid som vann Skinkloppet förra året och nu är hon arrangör för årets lopp. \n\n\n\nDet kommer att vara vid Gullsjön\, se inbjudan.Det finns tre klasser: Det lite längre Skinkloppet\, det lite kortare Korvloppet och det lite mindre Köttbullsloppet. Det passar alla åldrar med andra ord. \n\n\n\nKlubben bjuder på grillad korv så det blir extra festligt. \n\n\n\nInbjudan och anmälan finns här: Eventor – Tävlingsinformation: Skinkloppet (orientering.se) \n\n\n\nGlöm inte att det är årsfest på kvällen också. Så det blir en hel familjeklubbdag.
URL:https://vallentunaosseby.se/event/skinkloppet/
END:VEVENT
BEGIN:VEVENT
DTSTART;TZID=Europe/Stockholm:20231118T180000
DTEND;TZID=Europe/Stockholm:20231118T220000
DTSTAMP:20260423T182514
CREATED:20230814T144550Z
LAST-MODIFIED:20231026T184003Z
UID:2132-1700330400-1700344800@vallentunaosseby.se
SUMMARY:Årsfest
DESCRIPTION:Plats: Klubbstugan \n\n\n\nInbjudan
URL:https://vallentunaosseby.se/event/arsfest/
END:VEVENT
BEGIN:VEVENT
DTSTART;TZID=Europe/Stockholm:20231121T180000
DTEND;TZID=Europe/Stockholm:20231121T193000
DTSTAMP:20260423T182514
CREATED:20230821T054027Z
LAST-MODIFIED:20230821T054056Z
UID:2176-1700589600-1700595000@vallentunaosseby.se
SUMMARY:Ungdomsträning med träning för alla
DESCRIPTION:Hagaskolan
URL:https://vallentunaosseby.se/event/ungdomstraning-med-traning-for-alla-20/
END:VEVENT
BEGIN:VEVENT
DTSTART;TZID=Europe/Stockholm:20231123T180000
DTEND;TZID=Europe/Stockholm:20231123T203000
DTSTAMP:20260423T182514
CREATED:20231010T182557Z
LAST-MODIFIED:20231105T194422Z
UID:2319-1700762400-1700771400@vallentunaosseby.se
SUMMARY:Nattråttan 1
DESCRIPTION:Nattråttan är en natt-cup i 4 delar. \n\n\n\nEventor – Tävlingsinformation: Nattråttan etapp 1 (orientering.se)
URL:https://vallentunaosseby.se/event/nattrattan-1/
END:VEVENT
BEGIN:VEVENT
DTSTART;TZID=Europe/Stockholm:20231125T090000
DTEND;TZID=Europe/Stockholm:20231125T150000
DTSTAMP:20260423T182514
CREATED:20230814T144238Z
LAST-MODIFIED:20231104T103952Z
UID:2130-1700902800-1700924400@vallentunaosseby.se
SUMMARY:UOF planeringskonferens
DESCRIPTION:Årlig planeringskonferens med distriktets klubbar. \n\n\n\nPlats: Uppsala IFU arena \n\n\n\nInbjudan och anmälan: Eventor – Aktivitet: Planeringskonferens UOF 2023 (orientering.se)
URL:https://vallentunaosseby.se/event/uof-planeringskonferens/
END:VEVENT
BEGIN:VEVENT
DTSTART;TZID=Europe/Stockholm:20231128T180000
DTEND;TZID=Europe/Stockholm:20231128T193000
DTSTAMP:20260423T182514
CREATED:20230821T054224Z
LAST-MODIFIED:20230821T054233Z
UID:2179-1701194400-1701199800@vallentunaosseby.se
SUMMARY:Ungdomsträning med träning för alla
DESCRIPTION:Hagaskolan
URL:https://vallentunaosseby.se/event/ungdomstraning-med-traning-for-alla-21/
END:VEVENT
END:VCALENDAR