BEGIN:VCALENDAR
VERSION:2.0
PRODID:-//vallentunaosseby.se - ECPv6.15.20//NONSGML v1.0//EN
CALSCALE:GREGORIAN
METHOD:PUBLISH
X-ORIGINAL-URL:https://vallentunaosseby.se
X-WR-CALDESC:Händelser för vallentunaosseby.se
REFRESH-INTERVAL;VALUE=DURATION:PT1H
X-Robots-Tag:noindex
X-PUBLISHED-TTL:PT1H
BEGIN:VTIMEZONE
TZID:Europe/Stockholm
BEGIN:DAYLIGHT
TZOFFSETFROM:+0100
TZOFFSETTO:+0200
TZNAME:CEST
DTSTART:20220327T010000
END:DAYLIGHT
BEGIN:STANDARD
TZOFFSETFROM:+0200
TZOFFSETTO:+0100
TZNAME:CET
DTSTART:20221030T010000
END:STANDARD
BEGIN:DAYLIGHT
TZOFFSETFROM:+0100
TZOFFSETTO:+0200
TZNAME:CEST
DTSTART:20230326T010000
END:DAYLIGHT
BEGIN:STANDARD
TZOFFSETFROM:+0200
TZOFFSETTO:+0100
TZNAME:CET
DTSTART:20231029T010000
END:STANDARD
BEGIN:DAYLIGHT
TZOFFSETFROM:+0100
TZOFFSETTO:+0200
TZNAME:CEST
DTSTART:20240331T010000
END:DAYLIGHT
BEGIN:STANDARD
TZOFFSETFROM:+0200
TZOFFSETTO:+0100
TZNAME:CET
DTSTART:20241027T010000
END:STANDARD
END:VTIMEZONE
BEGIN:VEVENT
DTSTART;TZID=Europe/Stockholm:20230810T180000
DTEND;TZID=Europe/Stockholm:20230810T200000
DTSTAMP:20260423T211621
CREATED:20230807T112752Z
LAST-MODIFIED:20230807T112753Z
UID:2122-1691690400-1691697600@vallentunaosseby.se
SUMMARY:Provlöpning inför tävlingen 27/8
DESCRIPTION:Vi behöver provlöpa banorna inför vår tävling 27/8. \n\n\n\nSamling vid Törnskogens norra parkering.
URL:https://vallentunaosseby.se/event/provlopning-infor-tavlingen-27-8/
END:VEVENT
BEGIN:VEVENT
DTSTART;TZID=Europe/Stockholm:20230813T100000
DTEND;TZID=Europe/Stockholm:20230813T120000
DTSTAMP:20260423T211621
CREATED:20230607T175955Z
LAST-MODIFIED:20230607T180002Z
UID:2024-1691920800-1691928000@vallentunaosseby.se
SUMMARY:Lännamedeln
DESCRIPTION:Eventor – Tävlingsinformation: Lännamedeln (orientering.se)
URL:https://vallentunaosseby.se/event/lannamedeln/
END:VEVENT
BEGIN:VEVENT
DTSTART;TZID=Europe/Stockholm:20230814T190000
DTEND;TZID=Europe/Stockholm:20230814T210000
DTSTAMP:20260423T211621
CREATED:20230523T062841Z
LAST-MODIFIED:20230523T062841Z
UID:1972-1692039600-1692046800@vallentunaosseby.se
SUMMARY:Styrelsemöte
DESCRIPTION:Klubbstugan
URL:https://vallentunaosseby.se/event/styrelsemote-8/
END:VEVENT
BEGIN:VEVENT
DTSTART;TZID=Europe/Stockholm:20230815T180000
DTEND;TZID=Europe/Stockholm:20230815T200000
DTSTAMP:20260423T211621
CREATED:20230807T113002Z
LAST-MODIFIED:20230815T141419Z
UID:2124-1692122400-1692129600@vallentunaosseby.se
SUMMARY:Provlöpning inför tävlingen 27/8
DESCRIPTION:Vi behöver provlöpa banorna inför vår tävling 27/8. \n\n\n\nSamling vid Törnskogens norra parkering här: https://www.hitta.se/kartan?usergeo=1&s=82523151 \n\n\n\nKör in från väg 873 som går mellan Tpl Hagbylund och Väsjön.
URL:https://vallentunaosseby.se/event/provlopning-infor-tavlingen-27-8-2/
END:VEVENT
BEGIN:VEVENT
DTSTART;TZID=Europe/Stockholm:20230817T180000
DTEND;TZID=Europe/Stockholm:20230817T200000
DTSTAMP:20260423T211621
CREATED:20230807T113108Z
LAST-MODIFIED:20230815T141535Z
UID:2126-1692295200-1692302400@vallentunaosseby.se
SUMMARY:Provlöpning inför tävlingen 27/8
DESCRIPTION:Vi behöver provlöpa banorna inför vår tävling 27/8. \n\n\n\nSamling vid Törnskogens norra parkering här: https://www.hitta.se/kartan?usergeo=1&s=82523151 \n\n\n\nKör in från väg 873 som går mellan Tpl Hagbylund och Väsjön.
URL:https://vallentunaosseby.se/event/provlopning-infor-tavlingen-27-8-3/
END:VEVENT
BEGIN:VEVENT
DTSTART;TZID=Europe/Stockholm:20230819T100000
DTEND;TZID=Europe/Stockholm:20230819T120000
DTSTAMP:20260423T211621
CREATED:20230607T180105Z
LAST-MODIFIED:20230607T182146Z
UID:2026-1692439200-1692446400@vallentunaosseby.se
SUMMARY:Långhundradubbeln\, medel\, UC
DESCRIPTION:Eventor – Tävlingsinformation: Långhundradubbeln\, medel (orientering.se) \n\n\n\nDeltävling 1 i Upplandscupen
URL:https://vallentunaosseby.se/event/langhundradubbeln-medel/
END:VEVENT
BEGIN:VEVENT
DTSTART;TZID=Europe/Stockholm:20230820T100000
DTEND;TZID=Europe/Stockholm:20230820T120000
DTSTAMP:20260423T211621
CREATED:20230607T180205Z
LAST-MODIFIED:20230607T180206Z
UID:2028-1692525600-1692532800@vallentunaosseby.se
SUMMARY:Långhundradubbeln\, lång
DESCRIPTION:Eventor – Tävlingsinformation: Långhundradubbeln\, lång (orientering.se)
URL:https://vallentunaosseby.se/event/langhundradubbeln-lang/
END:VEVENT
BEGIN:VEVENT
DTSTART;TZID=Europe/Stockholm:20230822T180000
DTEND;TZID=Europe/Stockholm:20230822T193000
DTSTAMP:20260423T211621
CREATED:20230711T175611Z
LAST-MODIFIED:20230711T175640Z
UID:2117-1692727200-1692732600@vallentunaosseby.se
SUMMARY:Ungdomsträning med träning för alla
DESCRIPTION:Plats: Domarudden\, badplatsen
URL:https://vallentunaosseby.se/event/ungdomstraning-med-traning-for-alla-9/
END:VEVENT
BEGIN:VEVENT
DTSTART;TZID=Europe/Stockholm:20230826T080000
DTEND;TZID=Europe/Stockholm:20230826T170000
DTSTAMP:20260423T211621
CREATED:20230523T062156Z
LAST-MODIFIED:20230523T062716Z
UID:1967-1693036800-1693069200@vallentunaosseby.se
SUMMARY:VÖOL arrangerar tävling
DESCRIPTION:Vi samarrangerar två nationella tävlingar i Törnskogen med Väsby OK.VÖOL har bland annat ansvar för: banläggning söndag samt servering\, parkering och några i sekretariatet båda dagarna.
URL:https://vallentunaosseby.se/event/vool-arrangerar-tavling-2/
END:VEVENT
BEGIN:VEVENT
DTSTART;TZID=Europe/Stockholm:20230827T080000
DTEND;TZID=Europe/Stockholm:20230827T170000
DTSTAMP:20260423T211621
CREATED:20230206T170045Z
LAST-MODIFIED:20230607T182339Z
UID:1539-1693123200-1693155600@vallentunaosseby.se
SUMMARY:VÖOL arrangerar tävling
DESCRIPTION:Vi samarrangerar två nationella tävlingar i Törnskogen med Väsby OK.VÖOL har bland annat ansvar för: banläggning söndag samt servering\, parkering och några i sekretariatet båda dagarna. \n\n\n\nUngdomar får deltaga i tävlingen om de hjälper till innan och efter. \n\n\n\nEventor – Tävlingsinformation: Vallentuna-Össeby\, långdistans (orientering.se) \n\n\n\nDeltävling 2 i Upplandscupen
URL:https://vallentunaosseby.se/event/vool-arrangerar-tavling/
END:VEVENT
BEGIN:VEVENT
DTSTART;TZID=Europe/Stockholm:20230829T180000
DTEND;TZID=Europe/Stockholm:20230829T200000
DTSTAMP:20260423T211621
CREATED:20230202T204728Z
LAST-MODIFIED:20230820T193208Z
UID:1515-1693332000-1693339200@vallentunaosseby.se
SUMMARY:Medel-KM
DESCRIPTION:KM medel i Vaxholm tisdagen den 29 augusti \n\n\n\nEventor – Tävlingsinformation: Medel KM WOK\, VÖOL\, OKÖ (orientering.se)
URL:https://vallentunaosseby.se/event/medel-km/
END:VEVENT
BEGIN:VEVENT
DTSTART;TZID=Europe/Stockholm:20230831T180000
DTEND;TZID=Europe/Stockholm:20230831T200000
DTSTAMP:20260423T211621
CREATED:20230202T203730Z
LAST-MODIFIED:20230820T193253Z
UID:1513-1693504800-1693512000@vallentunaosseby.se
SUMMARY:Sprint-KM
DESCRIPTION:KM-sprint i Åkersberga torsdagen den 31 augusti. Läs mer på Eventor: https://eventor.orientering.se/Events/Show/43308
URL:https://vallentunaosseby.se/event/sprint-km/
END:VEVENT
BEGIN:VEVENT
DTSTART;TZID=Europe/Stockholm:20230902T100000
DTEND;TZID=Europe/Stockholm:20230902T120000
DTSTAMP:20260423T211621
CREATED:20230607T180413Z
LAST-MODIFIED:20230607T182854Z
UID:2030-1693648800-1693656000@vallentunaosseby.se
SUMMARY:DM-medel\, UC
DESCRIPTION:OK Roslagen \n\n\n\nEventor – Tävlingsinformation: DM\, medel\, Uppland (orientering.se) \n\n\n\nDeltävling 3 i Upplandscupen
URL:https://vallentunaosseby.se/event/dm-medel/
END:VEVENT
BEGIN:VEVENT
DTSTART;TZID=Europe/Stockholm:20230903T100000
DTEND;TZID=Europe/Stockholm:20230903T120000
DTSTAMP:20260423T211621
CREATED:20230607T180514Z
LAST-MODIFIED:20230822T084757Z
UID:2032-1693735200-1693742400@vallentunaosseby.se
SUMMARY:DM-stafett
DESCRIPTION:OK Rodhen arrangerar\, se Eventor: Eventor – Tävlingsinformation: DM\, stafett Uppland (orientering.se) \n\n\n\nIntresseanmälan görs med kommentarer till denna kalenderuppgift.
URL:https://vallentunaosseby.se/event/dm-stafett/
END:VEVENT
BEGIN:VEVENT
DTSTART;TZID=Europe/Stockholm:20230903T100000
DTEND;TZID=Europe/Stockholm:20230903T120000
DTSTAMP:20260423T211621
CREATED:20230607T181314Z
LAST-MODIFIED:20230607T181315Z
UID:2038-1693735200-1693742400@vallentunaosseby.se
SUMMARY:Attunda OK - BVOK
DESCRIPTION:Tävlingen arrangeras i byn Jämtlandet i Brottby. \n\n\n\nEventor – Tävlingsinformation: DM\, medel\, Stockholm (orientering.se)
URL:https://vallentunaosseby.se/event/attunda-ok-bvok/
END:VEVENT
BEGIN:VEVENT
DTSTART;TZID=Europe/Stockholm:20230905T180000
DTEND;TZID=Europe/Stockholm:20230905T193000
DTSTAMP:20260423T211621
CREATED:20230820T194121Z
LAST-MODIFIED:20230820T194257Z
UID:2144-1693936800-1693942200@vallentunaosseby.se
SUMMARY:Ungdomsträning med träning för alla
DESCRIPTION:Skavlöten
URL:https://vallentunaosseby.se/event/ungdomstraning-med-traning-for-alla-10/
END:VEVENT
BEGIN:VEVENT
DTSTART;TZID=Europe/Stockholm:20230907T180000
DTEND;TZID=Europe/Stockholm:20230907T193000
DTSTAMP:20260423T211621
CREATED:20230822T083923Z
LAST-MODIFIED:20230822T083957Z
UID:2192-1694109600-1694115000@vallentunaosseby.se
SUMMARY:KM-lång
DESCRIPTION:Eventor – Tävlingsinformation: KM lång för VÖOL WOK OKÖ (orientering.se)
URL:https://vallentunaosseby.se/event/km-lang/
END:VEVENT
BEGIN:VEVENT
DTSTART;TZID=Europe/Stockholm:20230908T150000
DTEND;TZID=Europe/Stockholm:20230908T180000
DTSTAMP:20260423T211621
CREATED:20230822T111627Z
LAST-MODIFIED:20230822T111859Z
UID:2199-1694185200-1694196000@vallentunaosseby.se
SUMMARY:USM sprint
DESCRIPTION:Ungdoms-SM i Karlskrona för 15 och 16-åringar. \n\n\n\nEventor – Tävlingsinformation: Ungdoms-SM\, sprint (orientering.se)
URL:https://vallentunaosseby.se/event/usm-sprint/
END:VEVENT
BEGIN:VEVENT
DTSTART;TZID=Europe/Stockholm:20230909T100000
DTEND;TZID=Europe/Stockholm:20230909T120000
DTSTAMP:20260423T211621
CREATED:20230607T180650Z
LAST-MODIFIED:20230607T180650Z
UID:2034-1694253600-1694260800@vallentunaosseby.se
SUMMARY:Täbydubbeln\, medeldistans
DESCRIPTION:Morsta \n\n\n\nEventor – Tävlingsinformation: Täbydubbeln\, medeldistans (orientering.se)
URL:https://vallentunaosseby.se/event/tabydubbeln-medeldistans/
END:VEVENT
BEGIN:VEVENT
DTSTART;TZID=Europe/Stockholm:20230909T110000
DTEND;TZID=Europe/Stockholm:20230909T140000
DTSTAMP:20260423T211621
CREATED:20230822T111759Z
LAST-MODIFIED:20230822T111829Z
UID:2203-1694257200-1694268000@vallentunaosseby.se
SUMMARY:USM långdistans
DESCRIPTION:Ungdoms-SM i Karlskrona för 15 och 16-åringar. \n\n\n\nEventor – Tävlingsinformation: Ungdoms-SM\, lång (orientering.se)
URL:https://vallentunaosseby.se/event/usm-langdistans/
END:VEVENT
BEGIN:VEVENT
DTSTART;TZID=Europe/Stockholm:20230910T090000
DTEND;TZID=Europe/Stockholm:20230910T130000
DTSTAMP:20260423T211621
CREATED:20230822T111951Z
LAST-MODIFIED:20230822T112118Z
UID:2207-1694336400-1694350800@vallentunaosseby.se
SUMMARY:USM stafett
DESCRIPTION:Ungdoms-SM i Karlskrona för 15 och 16-åringar. \n\n\n\nEventor – Tävlingsinformation: Ungdoms-SM\, distriktsstafett (orientering.se)
URL:https://vallentunaosseby.se/event/usm-stafett/
END:VEVENT
BEGIN:VEVENT
DTSTART;TZID=Europe/Stockholm:20230910T100000
DTEND;TZID=Europe/Stockholm:20230910T120000
DTSTAMP:20260423T211621
CREATED:20230607T180749Z
LAST-MODIFIED:20230607T180750Z
UID:2036-1694340000-1694347200@vallentunaosseby.se
SUMMARY:Täbydubbeln\, långdistans
DESCRIPTION:Morsta \n\n\n\nEventor – Tävlingsinformation: Täbydubbeln\, långdistans (orientering.se)
URL:https://vallentunaosseby.se/event/tabydubbeln-langdistans/
END:VEVENT
BEGIN:VEVENT
DTSTART;TZID=Europe/Stockholm:20230911T190000
DTEND;TZID=Europe/Stockholm:20230911T210000
DTSTAMP:20260423T211621
CREATED:20230523T062926Z
LAST-MODIFIED:20230523T063052Z
UID:1974-1694458800-1694466000@vallentunaosseby.se
SUMMARY:Styrelsemöte
DESCRIPTION:Klubbstugan
URL:https://vallentunaosseby.se/event/styrelsemote-9/
END:VEVENT
BEGIN:VEVENT
DTSTART;TZID=Europe/Stockholm:20230912T180000
DTEND;TZID=Europe/Stockholm:20230912T193000
DTSTAMP:20260423T211621
CREATED:20230820T194342Z
LAST-MODIFIED:20230910T170230Z
UID:2147-1694541600-1694547000@vallentunaosseby.se
SUMMARY:Ungdomsträning med träning för alla
DESCRIPTION:Vallentuna IP
URL:https://vallentunaosseby.se/event/ungdomstraning-med-traning-for-alla-11/
END:VEVENT
BEGIN:VEVENT
DTSTART;TZID=Europe/Stockholm:20230914T170000
DTEND;TZID=Europe/Stockholm:20230914T183000
DTSTAMP:20260423T211621
CREATED:20230911T054416Z
LAST-MODIFIED:20230912T070236Z
UID:2230-1694710800-1694716200@vallentunaosseby.se
SUMMARY:Torsdagsträning
DESCRIPTION:Torsdagsorientering vid Gävsjövägen\, motorcrossbanan. \n\n\n\nVi kommer att använda oss av naturpass kontroller \n\n\n\nInfart från Täby Kyrkby eler från Lövsättra \n\n\n\n3 banor\, ca 6.0 \, 4.5 och 3.0 \n\n\n\nAnsvarig: Claes Landqvist
URL:https://vallentunaosseby.se/event/torsdagstraning/
END:VEVENT
BEGIN:VEVENT
DTSTART;TZID=Europe/Stockholm:20230916T100000
DTEND;TZID=Europe/Stockholm:20230916T120000
DTSTAMP:20260423T211621
CREATED:20230607T181554Z
LAST-MODIFIED:20230607T182819Z
UID:2040-1694858400-1694865600@vallentunaosseby.se
SUMMARY:Linnédubbeln\, medel\, UC
DESCRIPTION:Eventor – Tävlingsinformation: Linnédubbeln\, medel (orientering.se) \n\n\n\nFinal i Upplandscupen
URL:https://vallentunaosseby.se/event/linnedubbeln-medel/
END:VEVENT
BEGIN:VEVENT
DTSTART;TZID=Europe/Stockholm:20230917T100000
DTEND;TZID=Europe/Stockholm:20230917T120000
DTSTAMP:20260423T211621
CREATED:20230607T182001Z
LAST-MODIFIED:20230607T182002Z
UID:2044-1694944800-1694952000@vallentunaosseby.se
SUMMARY:Linnédubbeln\, lång
DESCRIPTION:Eventor – Tävlingsinformation: Linnédubbeln\, lång (orientering.se)
URL:https://vallentunaosseby.se/event/linnedubbeln-lang/
END:VEVENT
BEGIN:VEVENT
DTSTART;TZID=Europe/Stockholm:20230919T180000
DTEND;TZID=Europe/Stockholm:20230919T193000
DTSTAMP:20260423T211621
CREATED:20230820T194551Z
LAST-MODIFIED:20230820T194604Z
UID:2150-1695146400-1695151800@vallentunaosseby.se
SUMMARY:Ungdomsträning med träning för alla
DESCRIPTION:Klubbstugan ÖIP
URL:https://vallentunaosseby.se/event/ungdomstraning-med-traning-for-alla-12/
END:VEVENT
BEGIN:VEVENT
DTSTART;TZID=Europe/Stockholm:20230921T170000
DTEND;TZID=Europe/Stockholm:20230921T183000
DTSTAMP:20260423T211621
CREATED:20230911T054620Z
LAST-MODIFIED:20230917T193556Z
UID:2232-1695315600-1695321000@vallentunaosseby.se
SUMMARY:Torsdagsträning
DESCRIPTION:Orienteringsträning vid Garnsvikens bad\, det som ligger vid Österåkers begravningsplats. \n\n\n\nBadet ligger HÄR \n\n\n\n3 Banor ca 6.0 \, 4.5 och 3.0 \n\n\n\nAnsvarig: Claes Landqvist
URL:https://vallentunaosseby.se/event/torsdagstraning-2/
END:VEVENT
BEGIN:VEVENT
DTSTART;TZID=Europe/Stockholm:20230922T210000
DTEND;TZID=Europe/Stockholm:20230922T223000
DTSTAMP:20260423T211621
CREATED:20230607T182651Z
LAST-MODIFIED:20230607T182652Z
UID:2052-1695416400-1695421800@vallentunaosseby.se
SUMMARY:DM-natt
DESCRIPTION:Eventor – Tävlingsinformation: DM\, natt\, Uppland (orientering.se)
URL:https://vallentunaosseby.se/event/dm-natt/
END:VEVENT
END:VCALENDAR