BEGIN:VCALENDAR
VERSION:2.0
PRODID:-//vallentunaosseby.se - ECPv6.15.20//NONSGML v1.0//EN
CALSCALE:GREGORIAN
METHOD:PUBLISH
X-ORIGINAL-URL:https://vallentunaosseby.se
X-WR-CALDESC:Händelser för vallentunaosseby.se
REFRESH-INTERVAL;VALUE=DURATION:PT1H
X-Robots-Tag:noindex
X-PUBLISHED-TTL:PT1H
BEGIN:VTIMEZONE
TZID:Europe/Stockholm
BEGIN:DAYLIGHT
TZOFFSETFROM:+0100
TZOFFSETTO:+0200
TZNAME:CEST
DTSTART:20230326T010000
END:DAYLIGHT
BEGIN:STANDARD
TZOFFSETFROM:+0200
TZOFFSETTO:+0100
TZNAME:CET
DTSTART:20231029T010000
END:STANDARD
BEGIN:DAYLIGHT
TZOFFSETFROM:+0100
TZOFFSETTO:+0200
TZNAME:CEST
DTSTART:20240331T010000
END:DAYLIGHT
BEGIN:STANDARD
TZOFFSETFROM:+0200
TZOFFSETTO:+0100
TZNAME:CET
DTSTART:20241027T010000
END:STANDARD
BEGIN:DAYLIGHT
TZOFFSETFROM:+0100
TZOFFSETTO:+0200
TZNAME:CEST
DTSTART:20250330T010000
END:DAYLIGHT
BEGIN:STANDARD
TZOFFSETFROM:+0200
TZOFFSETTO:+0100
TZNAME:CET
DTSTART:20251026T010000
END:STANDARD
END:VTIMEZONE
BEGIN:VEVENT
DTSTART;TZID=Europe/Stockholm:20240201T180000
DTEND;TZID=Europe/Stockholm:20240201T193000
DTSTAMP:20260423T105220
CREATED:20231218T155809Z
LAST-MODIFIED:20231218T160439Z
UID:2473-1706810400-1706815800@vallentunaosseby.se
SUMMARY:Torsdagsfys - träning för alla
DESCRIPTION:Vi utgår från klubbstugan vid Össeby IP och springer intervaller eller backe.Dusch och soppa med mackor efteråt för de som vill.
URL:https://vallentunaosseby.se/event/torsdagsfys-traning-for-alla-22/
END:VEVENT
BEGIN:VEVENT
DTSTART;TZID=Europe/Stockholm:20240203T100000
DTEND;TZID=Europe/Stockholm:20240203T150000
DTSTAMP:20260423T105220
CREATED:20231218T160920Z
LAST-MODIFIED:20231218T161205Z
UID:2504-1706954400-1706972400@vallentunaosseby.se
SUMMARY:Stockholm Indoor Cup 1
DESCRIPTION:Kungsholmens gymnasium \n\n\n\nEventor – Tävlingsinformation: Stockholm Indoor Cup\, dag 1 (orientering.se)
URL:https://vallentunaosseby.se/event/stockholm-indoor-cup-1-2/
END:VEVENT
BEGIN:VEVENT
DTSTART;TZID=Europe/Stockholm:20240204T100000
DTEND;TZID=Europe/Stockholm:20240204T150000
DTSTAMP:20260423T105220
CREATED:20231218T161047Z
LAST-MODIFIED:20231218T161137Z
UID:2507-1707040800-1707058800@vallentunaosseby.se
SUMMARY:Stockholm Indoor Cup 2
DESCRIPTION:Thorildsplans gymnasium \n\n\n\nEventor – Tävlingsinformation: Stockholm Indoor Cup\, dag 2 (orientering.se)
URL:https://vallentunaosseby.se/event/stockholm-indoor-cup-2-2/
END:VEVENT
BEGIN:VEVENT
DTSTART;TZID=Europe/Stockholm:20240206T180000
DTEND;TZID=Europe/Stockholm:20240206T183000
DTSTAMP:20260423T105220
CREATED:20231218T160653Z
LAST-MODIFIED:20240123T154119Z
UID:2498-1707242400-1707244200@vallentunaosseby.se
SUMMARY:PB vintercup 2
DESCRIPTION:Plats: Fd Ormstaskolan \n\n\n\nInbjudan: PB vintercup
URL:https://vallentunaosseby.se/event/pb-vintercup-2-2/
END:VEVENT
BEGIN:VEVENT
DTSTART;TZID=Europe/Stockholm:20240208T180000
DTEND;TZID=Europe/Stockholm:20240208T193000
DTSTAMP:20260423T105220
CREATED:20231218T155843Z
LAST-MODIFIED:20231218T160417Z
UID:2475-1707415200-1707420600@vallentunaosseby.se
SUMMARY:Torsdagsfys - träning för alla
DESCRIPTION:Vi utgår från klubbstugan vid Össeby IP och springer intervaller eller backe.Dusch och soppa med mackor efteråt för de som vill.
URL:https://vallentunaosseby.se/event/torsdagsfys-traning-for-alla-23/
END:VEVENT
BEGIN:VEVENT
DTSTART;TZID=Europe/Stockholm:20240211T100000
DTEND;TZID=Europe/Stockholm:20240211T120000
DTSTAMP:20260423T105220
CREATED:20240205T131047Z
LAST-MODIFIED:20240205T131148Z
UID:2674-1707645600-1707652800@vallentunaosseby.se
SUMMARY:Vinterträning Altorpskogen
DESCRIPTION:Orienteringsträning i Altorpskogen. 3 banor 2.8\, 4.0 och 5.6 km finns \n\n\n\nStart vid Lahäll \, norr om altorpskogen vid slutet av Gränsvägen
URL:https://vallentunaosseby.se/event/vintertraning-altorpskogen/
END:VEVENT
BEGIN:VEVENT
DTSTART;TZID=Europe/Stockholm:20240213T180000
DTEND;TZID=Europe/Stockholm:20240213T193000
DTSTAMP:20260423T105220
CREATED:20231211T215650Z
LAST-MODIFIED:20240204T173013Z
UID:2441-1707847200-1707852600@vallentunaosseby.se
SUMMARY:Spinning
DESCRIPTION:Vi har hyrt ett helt spinning-pass på Sportsclub.Jätteroligt att cykla tillsammans med jättelik filmskärm framför sig. \n\n\n\nSamling 18.00 så vi hinner bocka av alla och göra oss i ordning inför starten 18.30. \n\n\n\nAnmälan görs under nyheten här: Spinning 13/2 – vallentunaosseby.se
URL:https://vallentunaosseby.se/event/spinning/
END:VEVENT
BEGIN:VEVENT
DTSTART;TZID=Europe/Stockholm:20240215T180000
DTEND;TZID=Europe/Stockholm:20240215T193000
DTSTAMP:20260423T105220
CREATED:20231218T155913Z
LAST-MODIFIED:20231218T160359Z
UID:2477-1708020000-1708025400@vallentunaosseby.se
SUMMARY:Torsdagsfys - träning för alla
DESCRIPTION:Vi utgår från klubbstugan vid Össeby IP och springer intervaller eller backe.Dusch och soppa med mackor efteråt för de som vill.
URL:https://vallentunaosseby.se/event/torsdagsfys-traning-for-alla-24/
END:VEVENT
BEGIN:VEVENT
DTSTART;TZID=Europe/Stockholm:20240217T080000
DTEND;TZID=Europe/Stockholm:20240218T140000
DTSTAMP:20260423T105220
CREATED:20231211T215452Z
LAST-MODIFIED:20240211T211312Z
UID:2439-1708156800-1708264800@vallentunaosseby.se
SUMMARY:Ungdomsläger 17-18/2
DESCRIPTION:Läger för klubbens ungdomar i Lindbacken\, Rånäs. \n\n\n\nINBJUDAN
URL:https://vallentunaosseby.se/event/ungdomslager/
END:VEVENT
BEGIN:VEVENT
DTSTART;TZID=Europe/Stockholm:20240218T100000
DTEND;TZID=Europe/Stockholm:20240218T110000
DTSTAMP:20260423T105220
CREATED:20240212T103357Z
LAST-MODIFIED:20240212T103358Z
UID:2686-1708250400-1708254000@vallentunaosseby.se
SUMMARY:Vinterträning Enebyberg IP 18 Feb
DESCRIPTION:Orienteringsträning vid Enebybergs IP\,  \n\n\n\nVi använder Enebybergs ”månadens bana”. 4 banor finns utskrivna
URL:https://vallentunaosseby.se/event/vintertraning-enebyberg-ip-18-feb/
END:VEVENT
BEGIN:VEVENT
DTSTART;TZID=Europe/Stockholm:20240218T180000
DTEND;TZID=Europe/Stockholm:20240218T193000
DTSTAMP:20260423T105220
CREATED:20231211T215316Z
LAST-MODIFIED:20231217T183701Z
UID:2437-1708279200-1708284600@vallentunaosseby.se
SUMMARY:Årsmöte 2024
DESCRIPTION:Klubbstugan\, Össeby IP \n\n\n\nInbjudan med mera finns HÄR
URL:https://vallentunaosseby.se/event/arsmote-2/
END:VEVENT
BEGIN:VEVENT
DTSTART;TZID=Europe/Stockholm:20240220T180000
DTEND;TZID=Europe/Stockholm:20240220T183000
DTSTAMP:20260423T105220
CREATED:20231218T160726Z
LAST-MODIFIED:20240123T154208Z
UID:2500-1708452000-1708453800@vallentunaosseby.se
SUMMARY:PB vintercup 3
DESCRIPTION:Plats: Dragonvreten\, längst norrut på Rosengårdsvägen \n\n\n\nInbjudan: PB vintercup
URL:https://vallentunaosseby.se/event/pb-vintercup-3-2/
END:VEVENT
BEGIN:VEVENT
DTSTART;TZID=Europe/Stockholm:20240222T180000
DTEND;TZID=Europe/Stockholm:20240222T203000
DTSTAMP:20260423T105220
CREATED:20231010T183208Z
LAST-MODIFIED:20240218T153944Z
UID:2325-1708624800-1708633800@vallentunaosseby.se
SUMMARY:Nattråttan 4 final
DESCRIPTION:Nattråttan är en natt-cup i 4 delar. \n\n\n\nAnmälan: Eventor – Tävlingsinformation: Nattråttan\, etapp 4 (orientering.se)
URL:https://vallentunaosseby.se/event/nattrattan-4-final/
END:VEVENT
BEGIN:VEVENT
DTSTART;TZID=Europe/Stockholm:20240225T100000
DTEND;TZID=Europe/Stockholm:20240225T110000
DTSTAMP:20260423T105220
CREATED:20240221T175959Z
LAST-MODIFIED:20240221T180118Z
UID:2699-1708855200-1708858800@vallentunaosseby.se
SUMMARY:Söndagsträning
DESCRIPTION:Söndagsträning från Vallentuna IP. \n\n\n\nStart mellan 10:00-11:00 \n\n\n\nSamling på parkeringen vid ishallen\, se karta här: https://www.hitta.se/kartan?usergeo=1&s=0a087548
URL:https://vallentunaosseby.se/event/sondagstraning-2/
END:VEVENT
BEGIN:VEVENT
DTSTART;TZID=Europe/Stockholm:20240229T180000
DTEND;TZID=Europe/Stockholm:20240229T193000
DTSTAMP:20260423T105220
CREATED:20231218T155953Z
LAST-MODIFIED:20231218T160340Z
UID:2479-1709229600-1709235000@vallentunaosseby.se
SUMMARY:Torsdagsfys - träning för alla
DESCRIPTION:Vi utgår från klubbstugan vid Össeby IP och springer intervaller eller backe.Dusch och soppa med mackor efteråt för de som vill.
URL:https://vallentunaosseby.se/event/torsdagsfys-traning-for-alla-25/
END:VEVENT
BEGIN:VEVENT
DTSTART;TZID=Europe/Stockholm:20240303T100000
DTEND;TZID=Europe/Stockholm:20240303T110000
DTSTAMP:20260423T105220
CREATED:20240228T131620Z
LAST-MODIFIED:20240228T131621Z
UID:2721-1709460000-1709463600@vallentunaosseby.se
SUMMARY:Vinterträning 3 Mars
DESCRIPTION:Träningen är vid Össeby IP vid klubbstugan
URL:https://vallentunaosseby.se/event/vintertraning-3-mars/
END:VEVENT
BEGIN:VEVENT
DTSTART;TZID=Europe/Stockholm:20240305T180000
DTEND;TZID=Europe/Stockholm:20240305T183000
DTSTAMP:20260423T105220
CREATED:20231218T160807Z
LAST-MODIFIED:20240123T154309Z
UID:2502-1709661600-1709663400@vallentunaosseby.se
SUMMARY:PB vintercup 4
DESCRIPTION:Plats: Gustavs udde. Avslutning med korvgrillning \n\n\n\nInbjudan: PB vintercup
URL:https://vallentunaosseby.se/event/pb-vintercup-4/
END:VEVENT
BEGIN:VEVENT
DTSTART;TZID=Europe/Stockholm:20240307T180000
DTEND;TZID=Europe/Stockholm:20240307T193000
DTSTAMP:20260423T105220
CREATED:20231218T160034Z
LAST-MODIFIED:20231218T160323Z
UID:2481-1709834400-1709839800@vallentunaosseby.se
SUMMARY:Torsdagsfys - träning för alla
DESCRIPTION:Vi utgår från klubbstugan vid Össeby IP och springer intervaller eller backe.Dusch och soppa med mackor efteråt för de som vill.
URL:https://vallentunaosseby.se/event/torsdagsfys-traning-for-alla-26/
END:VEVENT
BEGIN:VEVENT
DTSTART;TZID=Europe/Stockholm:20240310T100000
DTEND;TZID=Europe/Stockholm:20240310T103000
DTSTAMP:20260423T105220
CREATED:20240306T071017Z
LAST-MODIFIED:20240306T071017Z
UID:2732-1710064800-1710066600@vallentunaosseby.se
SUMMARY:Vinterträning 10 mars
DESCRIPTION:Träning tillsammans med Waxholms OK vid hagstugeparkeringen Bogesund \n\n\n\n\n Eventor – Tävlingsinformation: Vårsolen (orientering.se)
URL:https://vallentunaosseby.se/event/vintertraning-10-mars/
END:VEVENT
BEGIN:VEVENT
DTSTART;TZID=Europe/Stockholm:20240312T180000
DTEND;TZID=Europe/Stockholm:20240312T193000
DTSTAMP:20260423T105220
CREATED:20231218T155452Z
LAST-MODIFIED:20231218T155453Z
UID:2465-1710266400-1710271800@vallentunaosseby.se
SUMMARY:Ungdomsträning med träning för alla
DESCRIPTION:Klubbstugan\, Össeby IP
URL:https://vallentunaosseby.se/event/ungdomstraning-med-traning-for-alla-28/
END:VEVENT
BEGIN:VEVENT
DTSTART;TZID=Europe/Stockholm:20240314T180000
DTEND;TZID=Europe/Stockholm:20240314T193000
DTSTAMP:20260423T105220
CREATED:20231218T160119Z
LAST-MODIFIED:20240107T180627Z
UID:2483-1710439200-1710444600@vallentunaosseby.se
SUMMARY:Torsdagsfys - träning för alla
DESCRIPTION:Sista torsdagsfysen för i vår. \n\n\n\nVi utgår från klubbstugan vid Össeby IP och springer intervaller eller backe.Dusch och soppa med mackor efteråt för de som vill.
URL:https://vallentunaosseby.se/event/torsdagsfys-traning-for-alla-27/
END:VEVENT
BEGIN:VEVENT
DTSTART;TZID=Europe/Stockholm:20240316T093000
DTEND;TZID=Europe/Stockholm:20240316T153000
DTSTAMP:20260423T105220
CREATED:20240225T184809Z
LAST-MODIFIED:20240225T184919Z
UID:2717-1710581400-1710603000@vallentunaosseby.se
SUMMARY:Upptaktsdag UOF ungdom
DESCRIPTION:Sigtuna OK och UOF bjuder in till upptaktsdag för HD13-16 ungdomarna i distriktet.Samling 09.30 vid Sigtuna OK:s klubbstuga i Hällsbo\, Sigtuna.Två träningspass under dagen med fokus på teknik och fart.Egen lunchmatsäck medtages.Avslut på dagen ca 15.00/15.30. \n\n\n\nAnmälan: Eventor – Tävlingsinformation: Upptaktsdag med UOF för ungdomar (orientering.se)
URL:https://vallentunaosseby.se/event/upptaktsdag-uof-ungdom/
END:VEVENT
BEGIN:VEVENT
DTSTART;TZID=Europe/Stockholm:20240317T100000
DTEND;TZID=Europe/Stockholm:20240317T110000
DTSTAMP:20260423T105220
CREATED:20240312T070859Z
LAST-MODIFIED:20240312T070859Z
UID:2737-1710669600-1710673200@vallentunaosseby.se
SUMMARY:Vinterträning 17 mars
DESCRIPTION:Träning vid Arninge och Slutet av Antennvägen\, infart vid Circle-K
URL:https://vallentunaosseby.se/event/vintertraning-17-mars/
END:VEVENT
BEGIN:VEVENT
DTSTART;TZID=Europe/Stockholm:20240317T100000
DTEND;TZID=Europe/Stockholm:20240317T130000
DTSTAMP:20260423T105220
CREATED:20240306T094431Z
LAST-MODIFIED:20240306T094431Z
UID:2734-1710669600-1710680400@vallentunaosseby.se
SUMMARY:Kringelträffen 17/3
DESCRIPTION:Eventor – Tävlingsinformation: Kringelträffen + DM\, medel\, Södermanland (orientering.se)
URL:https://vallentunaosseby.se/event/kringeltraffen-17-3/
END:VEVENT
BEGIN:VEVENT
DTSTART;TZID=Europe/Stockholm:20240319T180000
DTEND;TZID=Europe/Stockholm:20240319T193000
DTSTAMP:20260423T105220
CREATED:20231218T155607Z
LAST-MODIFIED:20240115T154113Z
UID:2467-1710871200-1710876600@vallentunaosseby.se
SUMMARY:Ungdomsträning med start av nybörjarkurs
DESCRIPTION:Start av nybörjarkurs \n\n\n\nKlubbstugan\, Össeby IP
URL:https://vallentunaosseby.se/event/ungdomstraning-med-traning-for-alla-29/
END:VEVENT
BEGIN:VEVENT
DTSTART;TZID=Europe/Stockholm:20240321T180000
DTEND;TZID=Europe/Stockholm:20240321T193000
DTSTAMP:20260423T105220
CREATED:20231218T160142Z
LAST-MODIFIED:20240107T180518Z
UID:2485-1711044000-1711049400@vallentunaosseby.se
SUMMARY:KM - natt
DESCRIPTION:Klubbmästerskap i nattorientering. \n\n\n\nPlats: Åkersberga \n\n\n\nInformation och anmälan: Eventor – Tävlingsinformation: Natt-KM för Vallentuna-Össeby. OL\, Waxholms OK och OK Österåker (orientering.se)
URL:https://vallentunaosseby.se/event/torsdagsfys-traning-for-alla-28/
END:VEVENT
BEGIN:VEVENT
DTSTART;TZID=Europe/Stockholm:20240324T100000
DTEND;TZID=Europe/Stockholm:20240324T103000
DTSTAMP:20260423T105220
CREATED:20240319T074524Z
LAST-MODIFIED:20240324T064343Z
UID:2745-1711274400-1711276200@vallentunaosseby.se
SUMMARY:Vinterträning 24 mars
DESCRIPTION:Provspringning av banor för orientringsskyttetävlingen 1-2 Juni. \n\n\n\nSamling\, skyttebanan vid Yesterday \n\n\n\nChrister A möter upp
URL:https://vallentunaosseby.se/event/vintertraning-24-mars/
END:VEVENT
BEGIN:VEVENT
DTSTART;TZID=Europe/Stockholm:20240326T093000
DTEND;TZID=Europe/Stockholm:20240326T130000
DTSTAMP:20260423T105220
CREATED:20240305T200051Z
LAST-MODIFIED:20240305T200916Z
UID:2728-1711445400-1711458000@vallentunaosseby.se
SUMMARY:Roslagsveteranerna
DESCRIPTION:Vi arrangerar Roslagsveteranerna vid Vallentuna IP \n\n\n\nInbjudan på eventor
URL:https://vallentunaosseby.se/event/roslagsveteranerna-7/
END:VEVENT
BEGIN:VEVENT
DTSTART;TZID=Europe/Stockholm:20240326T180000
DTEND;TZID=Europe/Stockholm:20240326T193000
DTSTAMP:20260423T105220
CREATED:20240107T173214Z
LAST-MODIFIED:20240107T173215Z
UID:2524-1711476000-1711481400@vallentunaosseby.se
SUMMARY:Ungdomsträning med träning för alla
DESCRIPTION:
URL:https://vallentunaosseby.se/event/ungdomstraning-med-traning-for-alla-30/
END:VEVENT
BEGIN:VEVENT
DTSTART;TZID=Europe/Stockholm:20240404T180000
DTEND;TZID=Europe/Stockholm:20240404T190000
DTSTAMP:20260423T105220
CREATED:20240328T091056Z
LAST-MODIFIED:20240328T091056Z
UID:2761-1712253600-1712257200@vallentunaosseby.se
SUMMARY:Torsdagsträning 4 april vid Rävsta
DESCRIPTION:Provlöpning av orienteringsskyttebanor vid Rävsta  \n\n\n\nAnsvarig Christer A
URL:https://vallentunaosseby.se/event/torsdagstraning-4-april-vid-ravsta/
END:VEVENT
END:VCALENDAR