BEGIN:VCALENDAR
VERSION:2.0
PRODID:-//vallentunaosseby.se - ECPv6.15.20//NONSGML v1.0//EN
CALSCALE:GREGORIAN
METHOD:PUBLISH
X-ORIGINAL-URL:https://vallentunaosseby.se
X-WR-CALDESC:Händelser för vallentunaosseby.se
REFRESH-INTERVAL;VALUE=DURATION:PT1H
X-Robots-Tag:noindex
X-PUBLISHED-TTL:PT1H
BEGIN:VTIMEZONE
TZID:Europe/Stockholm
BEGIN:DAYLIGHT
TZOFFSETFROM:+0100
TZOFFSETTO:+0200
TZNAME:CEST
DTSTART:20230326T010000
END:DAYLIGHT
BEGIN:STANDARD
TZOFFSETFROM:+0200
TZOFFSETTO:+0100
TZNAME:CET
DTSTART:20231029T010000
END:STANDARD
BEGIN:DAYLIGHT
TZOFFSETFROM:+0100
TZOFFSETTO:+0200
TZNAME:CEST
DTSTART:20240331T010000
END:DAYLIGHT
BEGIN:STANDARD
TZOFFSETFROM:+0200
TZOFFSETTO:+0100
TZNAME:CET
DTSTART:20241027T010000
END:STANDARD
BEGIN:DAYLIGHT
TZOFFSETFROM:+0100
TZOFFSETTO:+0200
TZNAME:CEST
DTSTART:20250330T010000
END:DAYLIGHT
BEGIN:STANDARD
TZOFFSETFROM:+0200
TZOFFSETTO:+0100
TZNAME:CET
DTSTART:20251026T010000
END:STANDARD
END:VTIMEZONE
BEGIN:VEVENT
DTSTART;TZID=Europe/Stockholm:20240521T180000
DTEND;TZID=Europe/Stockholm:20240521T193000
DTSTAMP:20260423T123234
CREATED:20240107T173607Z
LAST-MODIFIED:20240225T181529Z
UID:2536-1716314400-1716319800@vallentunaosseby.se
SUMMARY:Till Skogs etapp 2 (även öppet för vuxna)
DESCRIPTION:Arrangör: OK Roslagen
URL:https://vallentunaosseby.se/event/till-skogs-2/
END:VEVENT
BEGIN:VEVENT
DTSTART;TZID=Europe/Stockholm:20240520T190000
DTEND;TZID=Europe/Stockholm:20240520T203000
DTSTAMP:20260423T123234
CREATED:20240505T133528Z
LAST-MODIFIED:20240505T133529Z
UID:2891-1716231600-1716237000@vallentunaosseby.se
SUMMARY:Styrelsemöte
DESCRIPTION:Klubbstugan
URL:https://vallentunaosseby.se/event/styrelsemote-14/
END:VEVENT
BEGIN:VEVENT
DTSTART;TZID=Europe/Stockholm:20240516T180000
DTEND;TZID=Europe/Stockholm:20240516T190000
DTSTAMP:20260423T123234
CREATED:20240430T083212Z
LAST-MODIFIED:20240508T210820Z
UID:2886-1715882400-1715886000@vallentunaosseby.se
SUMMARY:Vårmästerskapet
DESCRIPTION:Arrangör : Peter Brunnberg \n\n\n\nInbjudan med mera: Vårmästerskapet 2024 – vallentunaosseby.se
URL:https://vallentunaosseby.se/event/varmasterskapet-2/
END:VEVENT
BEGIN:VEVENT
DTSTART;TZID=Europe/Stockholm:20240515T180000
DTEND;TZID=Europe/Stockholm:20240515T200000
DTSTAMP:20260423T123234
CREATED:20240114T183755Z
LAST-MODIFIED:20240114T183935Z
UID:2604-1715796000-1715803200@vallentunaosseby.se
SUMMARY:Stockholm City Cup 1
DESCRIPTION:Eventor – Tävlingsinformation: Stockholm City Cup\, #1 (orientering.se)
URL:https://vallentunaosseby.se/event/stockholm-city-cup-1/
END:VEVENT
BEGIN:VEVENT
DTSTART;TZID=Europe/Stockholm:20240514T180000
DTEND;TZID=Europe/Stockholm:20240514T193000
DTSTAMP:20260423T123234
CREATED:20240107T173531Z
LAST-MODIFIED:20240225T181733Z
UID:2534-1715709600-1715715000@vallentunaosseby.se
SUMMARY:Till Skogs etapp 1 (även öppet för vuxna)
DESCRIPTION:Arrangör: VÖOL \n\n\n\nVid klubbstugan Össeby IP \n\n\n\nEventor – Tävlingsinformation: Till Skogs (orientering.se)
URL:https://vallentunaosseby.se/event/till-skogs-1/
END:VEVENT
BEGIN:VEVENT
DTSTART;TZID=Europe/Stockholm:20240512T100000
DTEND;TZID=Europe/Stockholm:20240512T120000
DTSTAMP:20260423T123234
CREATED:20240114T183644Z
LAST-MODIFIED:20240114T183645Z
UID:2602-1715508000-1715515200@vallentunaosseby.se
SUMMARY:OK Roslagen
DESCRIPTION:Roslagshelg\, dag 2\, medel: Eventor – Tävlingsinformation: Roslagshelg\, dag 2\, medel (orientering.se)
URL:https://vallentunaosseby.se/event/ok-roslagen-2/
END:VEVENT
BEGIN:VEVENT
DTSTART;TZID=Europe/Stockholm:20240511T100000
DTEND;TZID=Europe/Stockholm:20240511T120000
DTSTAMP:20260423T123234
CREATED:20240114T183541Z
LAST-MODIFIED:20240114T183542Z
UID:2600-1715421600-1715428800@vallentunaosseby.se
SUMMARY:OK Roslagen
DESCRIPTION:Roslagshelg\, dag 1\, lång: Eventor – Tävlingsinformation: Roslagshelg\, dag 1\, lång (orientering.se)
URL:https://vallentunaosseby.se/event/ok-roslagen/
END:VEVENT
BEGIN:VEVENT
DTSTART;TZID=Europe/Stockholm:20240507T180000
DTEND;TZID=Europe/Stockholm:20240507T193000
DTSTAMP:20260423T123234
CREATED:20240107T173442Z
LAST-MODIFIED:20240404T142836Z
UID:2532-1715104800-1715110200@vallentunaosseby.se
SUMMARY:Ungdomsträning med träning för alla
DESCRIPTION:Träning för nybörjar- och fortsättningsgrupper. (Grön till violett svårighetsgrad)Även vuxna är välkomna att vara med. \n\n\n\nPlats: Klubbstugan vid Össeby IP
URL:https://vallentunaosseby.se/event/ungdomstraning-med-traning-for-alla-34/
END:VEVENT
BEGIN:VEVENT
DTSTART;TZID=Europe/Stockholm:20240504T120000
DTEND;TZID=Europe/Stockholm:20240505T120000
DTSTAMP:20260423T123234
CREATED:20240114T183431Z
LAST-MODIFIED:20240114T183437Z
UID:2597-1714824000-1714910400@vallentunaosseby.se
SUMMARY:10-mila
DESCRIPTION:Nynäshamn: Eventor – Tävlingsinformation: Tiomila\, Nynäshamn (Stafettligan\, #3) (orientering.se)
URL:https://vallentunaosseby.se/event/10-mila/
END:VEVENT
BEGIN:VEVENT
DTSTART;TZID=Europe/Stockholm:20240501T100000
DTEND;TZID=Europe/Stockholm:20240501T120000
DTSTAMP:20260423T123234
CREATED:20240114T183310Z
LAST-MODIFIED:20240310T145535Z
UID:2595-1714557600-1714564800@vallentunaosseby.se
SUMMARY:IFK Lidingö
DESCRIPTION:IFK Lidingös långdistans 1 maj: Eventor – Tävlingsinformation: IFK Lidingös långdistans 1 maj (orientering.se) \n\n\n\nPlats: Lidingö
URL:https://vallentunaosseby.se/event/ifk-lidingo/
END:VEVENT
BEGIN:VEVENT
DTSTART;TZID=Europe/Stockholm:20240428T100000
DTEND;TZID=Europe/Stockholm:20240428T120000
DTSTAMP:20260423T123234
CREATED:20240418T085815Z
LAST-MODIFIED:20240418T090217Z
UID:2807-1714298400-1714305600@vallentunaosseby.se
SUMMARY:Järla Orientering medeldistans
DESCRIPTION:Järla Orientering\, medeldistans:   Eventor – Tävlingsinformation: Järla Orientering\, medeldistans
URL:https://vallentunaosseby.se/event/jarla-orientering-3/
END:VEVENT
BEGIN:VEVENT
DTSTART;TZID=Europe/Stockholm:20240427T100000
DTEND;TZID=Europe/Stockholm:20240427T120000
DTSTAMP:20260423T123234
CREATED:20240114T183019Z
LAST-MODIFIED:20240418T090129Z
UID:2591-1714212000-1714219200@vallentunaosseby.se
SUMMARY:Järla Orientering långdistans
DESCRIPTION:Järla Orientering\, långdistans: Eventor – Tävlingsinformation: Järla Orientering\, långdistans
URL:https://vallentunaosseby.se/event/jarla-orientering/
END:VEVENT
BEGIN:VEVENT
DTSTART;TZID=Europe/Stockholm:20240425T180000
DTEND;TZID=Europe/Stockholm:20240425T190000
DTSTAMP:20260423T123234
CREATED:20240419T113353Z
LAST-MODIFIED:20240419T113353Z
UID:2813-1714068000-1714071600@vallentunaosseby.se
SUMMARY:Orienteringsträning
DESCRIPTION:Träning vid Täby kyrkogård i Täby Kyrkby \n\n\n\nsamling kl 18.00 \n\n\n\nBanläggare Claes Landqvist
URL:https://vallentunaosseby.se/event/orienteringstraning-2/
END:VEVENT
BEGIN:VEVENT
DTSTART;TZID=Europe/Stockholm:20240423T180000
DTEND;TZID=Europe/Stockholm:20240423T203000
DTSTAMP:20260423T123234
CREATED:20240211T212104Z
LAST-MODIFIED:20240211T212134Z
UID:2683-1713895200-1713904200@vallentunaosseby.se
SUMMARY:OLGY-sprinten
DESCRIPTION:Sprintorientering i Uppsala \n\n\n\nEventor – Tävlingsinformation: OLGY-sprinten (orientering.se)
URL:https://vallentunaosseby.se/event/olgy-sprinten/
END:VEVENT
BEGIN:VEVENT
DTSTART;TZID=Europe/Stockholm:20240423T180000
DTEND;TZID=Europe/Stockholm:20240423T193000
DTSTAMP:20260423T123234
CREATED:20240107T173408Z
LAST-MODIFIED:20240404T142719Z
UID:2530-1713895200-1713900600@vallentunaosseby.se
SUMMARY:Ungdomsträning med träning för alla
DESCRIPTION:Träning för nybörjar- och fortsättningsgrupper. (Grön till violett svårighetsgrad)Även vuxna är välkomna att vara med. \n\n\n\nPlats: Klubbstugan vid Össeby IP
URL:https://vallentunaosseby.se/event/ungdomstraning-med-traning-for-alla-33/
END:VEVENT
BEGIN:VEVENT
DTSTART;TZID=Europe/Stockholm:20240421T100000
DTEND;TZID=Europe/Stockholm:20240421T120000
DTSTAMP:20260423T123234
CREATED:20240114T182759Z
LAST-MODIFIED:20240114T182800Z
UID:2589-1713693600-1713700800@vallentunaosseby.se
SUMMARY:OK Linné
DESCRIPTION:Uppsala möte\, lång: Eventor – Tävlingsinformation: Uppsala möte\, lång (orientering.se)
URL:https://vallentunaosseby.se/event/ok-linne-2/
END:VEVENT
BEGIN:VEVENT
DTSTART;TZID=Europe/Stockholm:20240420T100000
DTEND;TZID=Europe/Stockholm:20240420T120000
DTSTAMP:20260423T123234
CREATED:20240114T182704Z
LAST-MODIFIED:20240114T182705Z
UID:2587-1713607200-1713614400@vallentunaosseby.se
SUMMARY:IF Thor
DESCRIPTION:Uppsala möte\, medel: Eventor – Tävlingsinformation: Uppsala möte\, medel (orientering.se)
URL:https://vallentunaosseby.se/event/if-thor-2/
END:VEVENT
BEGIN:VEVENT
DTSTART;TZID=Europe/Stockholm:20240419T200000
DTEND;TZID=Europe/Stockholm:20240419T220000
DTSTAMP:20260423T123234
CREATED:20240114T182553Z
LAST-MODIFIED:20240114T182554Z
UID:2585-1713556800-1713564000@vallentunaosseby.se
SUMMARY:Rasbo IK
DESCRIPTION:Uppsala möte\, natt: Eventor – Tävlingsinformation: Uppsala möte\, natt (orientering.se)
URL:https://vallentunaosseby.se/event/rasbo-ik-2/
END:VEVENT
BEGIN:VEVENT
DTSTART;TZID=Europe/Stockholm:20240418T180000
DTEND;TZID=Europe/Stockholm:20240418T200000
DTSTAMP:20260423T123234
CREATED:20240114T182428Z
LAST-MODIFIED:20240114T182428Z
UID:2583-1713463200-1713470400@vallentunaosseby.se
SUMMARY:Långhundra IF
DESCRIPTION:Knivstasprinten: Eventor – Tävlingsinformation: Knivstasprinten (orientering.se)
URL:https://vallentunaosseby.se/event/langhundra-if/
END:VEVENT
BEGIN:VEVENT
DTSTART;TZID=Europe/Stockholm:20240416T180000
DTEND;TZID=Europe/Stockholm:20240416T193000
DTSTAMP:20260423T123234
CREATED:20240107T173332Z
LAST-MODIFIED:20240404T142818Z
UID:2528-1713290400-1713295800@vallentunaosseby.se
SUMMARY:Ungdomsträning med träning för alla + föräldramöte
DESCRIPTION:Träning för nybörjar- och fortsättningsgrupper. (Grön till violett svårighetsgrad)Även vuxna är välkomna att vara med. \n\n\n\nPlats: Klubbstugan vid Össeby IP \n\n\n\nVi har även föräldramöte denna gång: INBJUDAN
URL:https://vallentunaosseby.se/event/ungdomstraning-med-traning-for-alla-32/
END:VEVENT
BEGIN:VEVENT
DTSTART;TZID=Europe/Stockholm:20240414T100000
DTEND;TZID=Europe/Stockholm:20240414T120000
DTSTAMP:20260423T123234
CREATED:20240114T182252Z
LAST-MODIFIED:20240114T182305Z
UID:2580-1713088800-1713096000@vallentunaosseby.se
SUMMARY:OK Enen
DESCRIPTION:Enenracet: Eventor – Tävlingsinformation: Enenracet (orientering.se)
URL:https://vallentunaosseby.se/event/ok-enen-2/
END:VEVENT
BEGIN:VEVENT
DTSTART;TZID=Europe/Stockholm:20240413T100000
DTEND;TZID=Europe/Stockholm:20240413T120000
DTSTAMP:20260423T123234
CREATED:20240114T182200Z
LAST-MODIFIED:20240114T182200Z
UID:2578-1713002400-1713009600@vallentunaosseby.se
SUMMARY:Länna IF
DESCRIPTION:Lännamedeln: Eventor – Tävlingsinformation: Lännamedeln (orientering.se)
URL:https://vallentunaosseby.se/event/lanna-if-2/
END:VEVENT
BEGIN:VEVENT
DTSTART;TZID=Europe/Stockholm:20240411T180000
DTEND;TZID=Europe/Stockholm:20240411T190000
DTSTAMP:20260423T123234
CREATED:20240328T091254Z
LAST-MODIFIED:20240328T091255Z
UID:2763-1712858400-1712862000@vallentunaosseby.se
SUMMARY:Torsdagsträning 11 april i Kristinebergsskogen
DESCRIPTION:Träning i Kristinebergsskogen\, samling vid ST1 bensinstation
URL:https://vallentunaosseby.se/event/torsdagstraning-11-april-i-kristinebergsskogen/
END:VEVENT
BEGIN:VEVENT
DTSTART;TZID=Europe/Stockholm:20240409T180000
DTEND;TZID=Europe/Stockholm:20240409T193000
DTSTAMP:20260423T123234
CREATED:20240107T173252Z
LAST-MODIFIED:20240404T142633Z
UID:2526-1712685600-1712691000@vallentunaosseby.se
SUMMARY:Ungdomsträning med träning för alla
DESCRIPTION:Träning för nybörjar- och fortsättningsgrupper. (Grön till violett svårighetsgrad)Även vuxna är välkomna att vara med. \n\n\n\nPlats: Klubbstugan vid Össeby IP
URL:https://vallentunaosseby.se/event/ungdomstraning-med-traning-for-alla-31/
END:VEVENT
BEGIN:VEVENT
DTSTART;TZID=Europe/Stockholm:20240407T100000
DTEND;TZID=Europe/Stockholm:20240407T120000
DTSTAMP:20260423T123234
CREATED:20240114T182046Z
LAST-MODIFIED:20240114T182056Z
UID:2576-1712484000-1712491200@vallentunaosseby.se
SUMMARY:Attunda OK
DESCRIPTION:Medeldistans: Eventor – Tävlingsinformation: Attunda OK\, medeldistans (orientering.se)
URL:https://vallentunaosseby.se/event/attunda-ok/
END:VEVENT
BEGIN:VEVENT
DTSTART;TZID=Europe/Stockholm:20240405T200000
DTEND;TZID=Europe/Stockholm:20240405T220000
DTSTAMP:20260423T123234
CREATED:20240114T181919Z
LAST-MODIFIED:20240114T181927Z
UID:2574-1712347200-1712354400@vallentunaosseby.se
SUMMARY:Väsby OK
DESCRIPTION:Grymnanna ! \n\n\n\nEventor – Tävlingsinformation: Grymnatta (orientering.se)
URL:https://vallentunaosseby.se/event/vasby-ok-2/
END:VEVENT
BEGIN:VEVENT
DTSTART;TZID=Europe/Stockholm:20240404T180000
DTEND;TZID=Europe/Stockholm:20240404T190000
DTSTAMP:20260423T123234
CREATED:20240328T091056Z
LAST-MODIFIED:20240328T091056Z
UID:2761-1712253600-1712257200@vallentunaosseby.se
SUMMARY:Torsdagsträning 4 april vid Rävsta
DESCRIPTION:Provlöpning av orienteringsskyttebanor vid Rävsta  \n\n\n\nAnsvarig Christer A
URL:https://vallentunaosseby.se/event/torsdagstraning-4-april-vid-ravsta/
END:VEVENT
BEGIN:VEVENT
DTSTART;TZID=Europe/Stockholm:20240326T180000
DTEND;TZID=Europe/Stockholm:20240326T193000
DTSTAMP:20260423T123234
CREATED:20240107T173214Z
LAST-MODIFIED:20240107T173215Z
UID:2524-1711476000-1711481400@vallentunaosseby.se
SUMMARY:Ungdomsträning med träning för alla
DESCRIPTION:
URL:https://vallentunaosseby.se/event/ungdomstraning-med-traning-for-alla-30/
END:VEVENT
BEGIN:VEVENT
DTSTART;TZID=Europe/Stockholm:20240326T093000
DTEND;TZID=Europe/Stockholm:20240326T130000
DTSTAMP:20260423T123234
CREATED:20240305T200051Z
LAST-MODIFIED:20240305T200916Z
UID:2728-1711445400-1711458000@vallentunaosseby.se
SUMMARY:Roslagsveteranerna
DESCRIPTION:Vi arrangerar Roslagsveteranerna vid Vallentuna IP \n\n\n\nInbjudan på eventor
URL:https://vallentunaosseby.se/event/roslagsveteranerna-7/
END:VEVENT
BEGIN:VEVENT
DTSTART;TZID=Europe/Stockholm:20240324T100000
DTEND;TZID=Europe/Stockholm:20240324T103000
DTSTAMP:20260423T123234
CREATED:20240319T074524Z
LAST-MODIFIED:20240324T064343Z
UID:2745-1711274400-1711276200@vallentunaosseby.se
SUMMARY:Vinterträning 24 mars
DESCRIPTION:Provspringning av banor för orientringsskyttetävlingen 1-2 Juni. \n\n\n\nSamling\, skyttebanan vid Yesterday \n\n\n\nChrister A möter upp
URL:https://vallentunaosseby.se/event/vintertraning-24-mars/
END:VEVENT
END:VCALENDAR