BEGIN:VCALENDAR
VERSION:2.0
PRODID:-//vallentunaosseby.se - ECPv6.15.20//NONSGML v1.0//EN
CALSCALE:GREGORIAN
METHOD:PUBLISH
X-ORIGINAL-URL:https://vallentunaosseby.se
X-WR-CALDESC:Händelser för vallentunaosseby.se
REFRESH-INTERVAL;VALUE=DURATION:PT1H
X-Robots-Tag:noindex
X-PUBLISHED-TTL:PT1H
BEGIN:VTIMEZONE
TZID:Europe/Stockholm
BEGIN:DAYLIGHT
TZOFFSETFROM:+0100
TZOFFSETTO:+0200
TZNAME:CEST
DTSTART:20220327T010000
END:DAYLIGHT
BEGIN:STANDARD
TZOFFSETFROM:+0200
TZOFFSETTO:+0100
TZNAME:CET
DTSTART:20221030T010000
END:STANDARD
BEGIN:DAYLIGHT
TZOFFSETFROM:+0100
TZOFFSETTO:+0200
TZNAME:CEST
DTSTART:20230326T010000
END:DAYLIGHT
BEGIN:STANDARD
TZOFFSETFROM:+0200
TZOFFSETTO:+0100
TZNAME:CET
DTSTART:20231029T010000
END:STANDARD
BEGIN:DAYLIGHT
TZOFFSETFROM:+0100
TZOFFSETTO:+0200
TZNAME:CEST
DTSTART:20240331T010000
END:DAYLIGHT
BEGIN:STANDARD
TZOFFSETFROM:+0200
TZOFFSETTO:+0100
TZNAME:CET
DTSTART:20241027T010000
END:STANDARD
END:VTIMEZONE
BEGIN:VEVENT
DTSTART;TZID=Europe/Stockholm:20230501T100000
DTEND;TZID=Europe/Stockholm:20230501T120000
DTSTAMP:20260424T014603
CREATED:20230105T180526Z
LAST-MODIFIED:20230421T111041Z
UID:1245-1682935200-1682942400@vallentunaosseby.se
SUMMARY:IFK Lidingö SOK
DESCRIPTION:Eventor – Tävlingsinformation: IFK Lidingö SOK (orientering.se)
URL:https://vallentunaosseby.se/event/ifk-lidingo-sok/
END:VEVENT
BEGIN:VEVENT
DTSTART;TZID=Europe/Stockholm:20230502T180000
DTEND;TZID=Europe/Stockholm:20230502T193000
DTSTAMP:20260424T014603
CREATED:20221218T172257Z
LAST-MODIFIED:20230206T165244Z
UID:1020-1683050400-1683055800@vallentunaosseby.se
SUMMARY:Ungdomsträning med träning för alla + nybörjarkurs
DESCRIPTION:Plats: Klubbstugan vid Össeby IP
URL:https://vallentunaosseby.se/event/ungdomstraning-med-traning-for-alla-nyborjarkurs-7/
END:VEVENT
BEGIN:VEVENT
DTSTART;TZID=Europe/Stockholm:20230504T180000
DTEND;TZID=Europe/Stockholm:20230504T190000
DTSTAMP:20260424T014603
CREATED:20230417T062515Z
LAST-MODIFIED:20230427T104717Z
UID:1812-1683223200-1683226800@vallentunaosseby.se
SUMMARY:Vårmästerskapet
DESCRIPTION:En traditionsenlig handicap-tävling i all enkelhet. \n\n\n\nI år springs det på en sprillans ny karta vid Stängselboda.Bara det är värt besväret. \n\n\n\nINBJUDAN
URL:https://vallentunaosseby.se/event/varmasterskapet/
END:VEVENT
BEGIN:VEVENT
DTSTART;TZID=Europe/Stockholm:20230506T100000
DTEND;TZID=Europe/Stockholm:20230506T120000
DTSTAMP:20260424T014603
CREATED:20230105T180626Z
LAST-MODIFIED:20230421T111107Z
UID:1247-1683367200-1683374400@vallentunaosseby.se
SUMMARY:OK Roslagen dag 1
DESCRIPTION:Eventor – Tävlingsinformation: Roslagshelg\, dag 1\, lång (orientering.se)
URL:https://vallentunaosseby.se/event/ok-roslagen-dag-1/
END:VEVENT
BEGIN:VEVENT
DTSTART;TZID=Europe/Stockholm:20230507T100000
DTEND;TZID=Europe/Stockholm:20230507T120000
DTSTAMP:20260424T014603
CREATED:20230105T180748Z
LAST-MODIFIED:20230421T111121Z
UID:1249-1683453600-1683460800@vallentunaosseby.se
SUMMARY:OK Roslagen dag 2
DESCRIPTION:Eventor – Tävlingsinformation: Roslagshelg\, dag 2\, medel (orientering.se)
URL:https://vallentunaosseby.se/event/ok-roslagen-dag-2/
END:VEVENT
BEGIN:VEVENT
DTSTART;TZID=Europe/Stockholm:20230509T180000
DTEND;TZID=Europe/Stockholm:20230509T193000
DTSTAMP:20260424T014603
CREATED:20230206T164830Z
LAST-MODIFIED:20230206T165342Z
UID:1523-1683655200-1683660600@vallentunaosseby.se
SUMMARY:Ungdomsträning med träning för alla + nybörjarkurs
DESCRIPTION:Plats: Klubbstugan vid Össeby IP
URL:https://vallentunaosseby.se/event/ungdomstraning-med-traning-for-alla-8/
END:VEVENT
BEGIN:VEVENT
DTSTART;TZID=Europe/Stockholm:20230509T180000
DTEND;TZID=Europe/Stockholm:20230509T200000
DTSTAMP:20260424T014603
CREATED:20230502T115738Z
LAST-MODIFIED:20230507T143106Z
UID:1896-1683655200-1683662400@vallentunaosseby.se
SUMMARY:Träning
DESCRIPTION:Banläggare Kent L \n\n\n\nSamling klubbstugan (träningen är vid Trollstenen) \n\n\n\nObservera att ungdomsträningen är på annat ställe.
URL:https://vallentunaosseby.se/event/traning-4/
END:VEVENT
BEGIN:VEVENT
DTSTART;TZID=Europe/Stockholm:20230511T190000
DTEND;TZID=Europe/Stockholm:20230511T203000
DTSTAMP:20260424T014603
CREATED:20230105T181351Z
LAST-MODIFIED:20230421T111333Z
UID:1260-1683831600-1683837000@vallentunaosseby.se
SUMMARY:DM-sprint OLGY
DESCRIPTION:Eventor – Tävlingsinformation: DM\, sprint\, Uppland (orientering.se)
URL:https://vallentunaosseby.se/event/dm-sprint-olgy/
END:VEVENT
BEGIN:VEVENT
DTSTART;TZID=Europe/Stockholm:20230516T180000
DTEND;TZID=Europe/Stockholm:20230516T193000
DTSTAMP:20260424T014603
CREATED:20230105T181029Z
LAST-MODIFIED:20230514T194207Z
UID:1254-1684260000-1684265400@vallentunaosseby.se
SUMMARY:Till Skogs etapp 1 (även öppet för vuxna)
DESCRIPTION:OK Roslagen \n\n\n\nLänk till Eventor
URL:https://vallentunaosseby.se/event/till-skogs-etapp-2/
END:VEVENT
BEGIN:VEVENT
DTSTART;TZID=Europe/Stockholm:20230516T180000
DTEND;TZID=Europe/Stockholm:20230516T200000
DTSTAMP:20260424T014603
CREATED:20230502T115916Z
LAST-MODIFIED:20230507T143048Z
UID:1899-1684260000-1684267200@vallentunaosseby.se
SUMMARY:Träning
DESCRIPTION:Banläggare Mattias S \n\n\n\nObservera att ungdomsträningen är på annat ställe.
URL:https://vallentunaosseby.se/event/traning-5/
END:VEVENT
BEGIN:VEVENT
DTSTART;TZID=Europe/Stockholm:20230520T100000
DTEND;TZID=Europe/Stockholm:20230521T150000
DTSTAMP:20260424T014603
CREATED:20230105T181807Z
LAST-MODIFIED:20230421T111440Z
UID:1262-1684576800-1684681200@vallentunaosseby.se
SUMMARY:10-mila Skellefteå
DESCRIPTION:Eventor – Tävlingsinformation: Tiomila Skellefteå (orientering.se)
URL:https://vallentunaosseby.se/event/10-mila-skelleftea/
END:VEVENT
BEGIN:VEVENT
DTSTART;TZID=Europe/Stockholm:20230522T190000
DTEND;TZID=Europe/Stockholm:20230522T210000
DTSTAMP:20260424T014603
CREATED:20230224T140323Z
LAST-MODIFIED:20230224T140331Z
UID:1607-1684782000-1684789200@vallentunaosseby.se
SUMMARY:Styrelsemöte
DESCRIPTION:I klubbstugan
URL:https://vallentunaosseby.se/event/styrelsemote-6/
END:VEVENT
BEGIN:VEVENT
DTSTART;TZID=Europe/Stockholm:20230523T180000
DTEND;TZID=Europe/Stockholm:20230523T193000
DTSTAMP:20260424T014603
CREATED:20230105T181156Z
LAST-MODIFIED:20230522T072247Z
UID:1256-1684864800-1684870200@vallentunaosseby.se
SUMMARY:Till Skogs etapp 2 (även öppet för vuxna)
DESCRIPTION:Arrangör är Länna IF. \n\n\n\nSamling för samåkning vid Vallentuna IP 17.30. \n\n\n\nLänk till Eventor
URL:https://vallentunaosseby.se/event/till-skogs-etapp-3/
END:VEVENT
BEGIN:VEVENT
DTSTART;TZID=Europe/Stockholm:20230523T180000
DTEND;TZID=Europe/Stockholm:20230523T200000
DTSTAMP:20260424T014603
CREATED:20230502T120015Z
LAST-MODIFIED:20230517T140540Z
UID:1901-1684864800-1684872000@vallentunaosseby.se
SUMMARY:Träning
DESCRIPTION:Banläggare Niklas C \n\n\n\nObservera att ungdomsträningen är på annat ställe enligt separat mail (Till Skogs)
URL:https://vallentunaosseby.se/event/traning-6/
END:VEVENT
BEGIN:VEVENT
DTSTART;TZID=Europe/Stockholm:20230524T180000
DTEND;TZID=Europe/Stockholm:20230524T200000
DTSTAMP:20260424T014603
CREATED:20230105T181928Z
LAST-MODIFIED:20230105T181928Z
UID:1264-1684951200-1684958400@vallentunaosseby.se
SUMMARY:Stockholm City Cup etapp 1
DESCRIPTION:Eventor – Tävlingsinformation: Stockholm City Cup #1 (orientering.se)
URL:https://vallentunaosseby.se/event/stockholm-city-cup-etapp-1/
END:VEVENT
BEGIN:VEVENT
DTSTART;TZID=Europe/Stockholm:20230527T090000
DTEND;TZID=Europe/Stockholm:20230528T150000
DTSTAMP:20260424T014603
CREATED:20230105T182702Z
LAST-MODIFIED:20230522T070933Z
UID:1273-1685178000-1685286000@vallentunaosseby.se
SUMMARY:UOF-distriktsläger
DESCRIPTION:Jätteroligt ungdomsläger för distriktets ungdomar.VÖOL kommer att åka dit med ett stort gäng.Lägret arrangeras av OK Roslagen i Rimbo väster om Norrtälje. \n\n\n\nMer information finns här: Distriksläger 2023.pdf
URL:https://vallentunaosseby.se/event/uof-distriktslager/
END:VEVENT
BEGIN:VEVENT
DTSTART;TZID=Europe/Stockholm:20230530T180000
DTEND;TZID=Europe/Stockholm:20230530T193000
DTSTAMP:20260424T014603
CREATED:20230105T181241Z
LAST-MODIFIED:20230514T194403Z
UID:1258-1685469600-1685475000@vallentunaosseby.se
SUMMARY:Till Skogs etapp 3 (även öppet för vuxna)
DESCRIPTION:Rånäs OK \n\n\n\nEventor – Tävlingsinformation: Till Skogs #3 (orientering.se)
URL:https://vallentunaosseby.se/event/till-skogs-etapp-4/
END:VEVENT
BEGIN:VEVENT
DTSTART;TZID=Europe/Stockholm:20230530T180000
DTEND;TZID=Europe/Stockholm:20230530T200000
DTSTAMP:20260424T014603
CREATED:20230502T120109Z
LAST-MODIFIED:20230517T140658Z
UID:1903-1685469600-1685476800@vallentunaosseby.se
SUMMARY:Träning
DESCRIPTION:Banläggare Peter S \n\n\n\nObservera att ungdomsträningen är på annat ställe enligt separat mail (Till Skogs)
URL:https://vallentunaosseby.se/event/traning-7/
END:VEVENT
BEGIN:VEVENT
DTSTART;TZID=Europe/Stockholm:20230531T180000
DTEND;TZID=Europe/Stockholm:20230531T200000
DTSTAMP:20260424T014603
CREATED:20230105T182041Z
LAST-MODIFIED:20230528T171852Z
UID:1266-1685556000-1685563200@vallentunaosseby.se
SUMMARY:Stockholm City Cup etapp 2
DESCRIPTION:Eventor – Tävlingsinformation: Stockholm City Cup #2 (orientering.se)
URL:https://vallentunaosseby.se/event/stockholm-city-cup-etapp-2/
END:VEVENT
END:VCALENDAR