BEGIN:VCALENDAR
VERSION:2.0
PRODID:-//vallentunaosseby.se - ECPv6.15.20//NONSGML v1.0//EN
CALSCALE:GREGORIAN
METHOD:PUBLISH
X-WR-CALNAME:vallentunaosseby.se
X-ORIGINAL-URL:https://vallentunaosseby.se
X-WR-CALDESC:Händelser för vallentunaosseby.se
REFRESH-INTERVAL;VALUE=DURATION:PT1H
X-Robots-Tag:noindex
X-PUBLISHED-TTL:PT1H
BEGIN:VTIMEZONE
TZID:Europe/Stockholm
BEGIN:DAYLIGHT
TZOFFSETFROM:+0100
TZOFFSETTO:+0200
TZNAME:CEST
DTSTART:20220327T010000
END:DAYLIGHT
BEGIN:STANDARD
TZOFFSETFROM:+0200
TZOFFSETTO:+0100
TZNAME:CET
DTSTART:20221030T010000
END:STANDARD
BEGIN:DAYLIGHT
TZOFFSETFROM:+0100
TZOFFSETTO:+0200
TZNAME:CEST
DTSTART:20230326T010000
END:DAYLIGHT
BEGIN:STANDARD
TZOFFSETFROM:+0200
TZOFFSETTO:+0100
TZNAME:CET
DTSTART:20231029T010000
END:STANDARD
BEGIN:DAYLIGHT
TZOFFSETFROM:+0100
TZOFFSETTO:+0200
TZNAME:CEST
DTSTART:20240331T010000
END:DAYLIGHT
BEGIN:STANDARD
TZOFFSETFROM:+0200
TZOFFSETTO:+0100
TZNAME:CET
DTSTART:20241027T010000
END:STANDARD
END:VTIMEZONE
BEGIN:VEVENT
DTSTART;TZID=Europe/Stockholm:20230603T080000
DTEND;TZID=Europe/Stockholm:20230606T170000
DTSTAMP:20260424T001527
CREATED:20230105T183055Z
LAST-MODIFIED:20230514T184917Z
UID:1275-1685779200-1686070800@vallentunaosseby.se
SUMMARY:Tävlingsresa till ÖSA-träffen
DESCRIPTION:Tävlingsresa till ÖSA-träffen i Hälsingland.Samåk gärna.Man kan campa på tävlingsplatsen eller bo på hotell. Förslagsvis Scandic i Bollnäs.Läs nyhet här: https://vallentunaosseby.se/osa-traffen-boende/ \n\n\n\nDag 1: Eventor – Tävlingsinformation: Ösaträffen\, dag 1\, medel (orientering.se) \n\n\n\nDag 2: Eventor – Tävlingsinformation: Ösaträffen\, dag 2\, lång (orientering.se) \n\n\n\nDag 3: Eventor – Tävlingsinformation: Ösaträffen\, dag 3\, medel (orientering.se) \n\n\n\nDag 4: Eventor – Tävlingsinformation: Ösaträffen\, dag 4\, lång (orientering.se)
URL:https://vallentunaosseby.se/event/tavlingsresa-till-osa-traffen/
ATTACH;FMTTYPE=image/jpeg:https://vallentunaosseby.se/wp-content/uploads/2023/04/Bild-OSA-traffen-2023.jpg
END:VEVENT
BEGIN:VEVENT
DTSTART;TZID=Europe/Stockholm:20230607T180000
DTEND;TZID=Europe/Stockholm:20230607T200000
DTSTAMP:20260424T001527
CREATED:20230105T182124Z
LAST-MODIFIED:20230105T182326Z
UID:1268-1686160800-1686168000@vallentunaosseby.se
SUMMARY:Stockholm City Cup etapp 3
DESCRIPTION:Eventor – Tävlingsinformation: Stockholm City Cup #3 (orientering.se)
URL:https://vallentunaosseby.se/event/svgds/
END:VEVENT
BEGIN:VEVENT
DTSTART;TZID=Europe/Stockholm:20230611T100000
DTEND;TZID=Europe/Stockholm:20230611T120000
DTSTAMP:20260424T001527
CREATED:20230529T104224Z
LAST-MODIFIED:20230529T104224Z
UID:1990-1686477600-1686484800@vallentunaosseby.se
SUMMARY:Stafett träning 11/6 OK Österåker
DESCRIPTION:OK Österåker håller i en Stafett träning i närheten av Skärgårdstad \n\n\n\nhttps://eventor.orientering.se/Activities/Show/18427 \n\n\n\nanmälan senast 9/6
URL:https://vallentunaosseby.se/event/stafett-traning-11-6-ok-osteraker/
END:VEVENT
BEGIN:VEVENT
DTSTART;TZID=Europe/Stockholm:20230613T180000
DTEND;TZID=Europe/Stockholm:20230613T193000
DTSTAMP:20260424T001527
CREATED:20230105T180946Z
LAST-MODIFIED:20230517T141148Z
UID:1252-1686679200-1686684600@vallentunaosseby.se
SUMMARY:Till Skogs etapp 4 (även öppet för vuxna)
DESCRIPTION:VÖOLPlats: Bergsjön i KårstaEventor – Tävlingsinformation: Till Skogs #4 2023 (orientering.se)
URL:https://vallentunaosseby.se/event/till-skogs-etapp-1/
END:VEVENT
BEGIN:VEVENT
DTSTART;TZID=Europe/Stockholm:20230614T180000
DTEND;TZID=Europe/Stockholm:20230614T193000
DTSTAMP:20260424T001527
CREATED:20230611T193235Z
LAST-MODIFIED:20230611T193236Z
UID:2074-1686765600-1686771000@vallentunaosseby.se
SUMMARY:Rånäs Sprint Cup Etapp 1
DESCRIPTION:Eventor – Tävlingsinformation: Rånäs Sprint Cup Etapp 1 (orientering.se)
URL:https://vallentunaosseby.se/event/ranas-sprint-cup-etapp-1/
END:VEVENT
BEGIN:VEVENT
DTSTART;TZID=Europe/Stockholm:20230617T150000
DTEND;TZID=Europe/Stockholm:20230618T150000
DTSTAMP:20260424T001527
CREATED:20230105T183451Z
LAST-MODIFIED:20230523T064104Z
UID:1282-1687014000-1687100400@vallentunaosseby.se
SUMMARY:Jukola
DESCRIPTION:Jukola-stafetten i Borgå öster om Helsingfors.VÖOL åker dit med ett lag. \n\n\n\nPorvoo Borgå Jukola 2023
URL:https://vallentunaosseby.se/event/jukola/
END:VEVENT
BEGIN:VEVENT
DTSTART;TZID=Europe/Stockholm:20230619T190000
DTEND;TZID=Europe/Stockholm:20230619T210000
DTSTAMP:20260424T001527
CREATED:20230224T140526Z
LAST-MODIFIED:20230224T140534Z
UID:1611-1687201200-1687208400@vallentunaosseby.se
SUMMARY:Styrelsemöte
DESCRIPTION:I klubbstugan
URL:https://vallentunaosseby.se/event/styrelsemote-7/
END:VEVENT
BEGIN:VEVENT
DTSTART;TZID=Europe/Stockholm:20230620T180000
DTEND;TZID=Europe/Stockholm:20230620T220000
DTSTAMP:20260424T001527
CREATED:20230105T183731Z
LAST-MODIFIED:20230607T172449Z
UID:1285-1687284000-1687298400@vallentunaosseby.se
SUMMARY:Figges GP
DESCRIPTION:Sedvanligt arrangemang med startordning ”anders algoritm” \n\n\n\n \n\n\n\n\nSamling kl 18:00\, Rumsättra\n\n\n\nAnmälan senast 18 Juni kl 22:00\n\n\n\nLänk till Eventor: Eventor – Tävlingsinformation: Figges 2023 (orientering.se)\n\n\n\n\nPM är på gång
URL:https://vallentunaosseby.se/event/figges-gp/
END:VEVENT
BEGIN:VEVENT
DTSTART;TZID=Europe/Stockholm:20230625T090000
DTEND;TZID=Europe/Stockholm:20230630T190000
DTSTAMP:20260424T001527
CREATED:20230206T170322Z
LAST-MODIFIED:20230523T130526Z
UID:1541-1687683600-1688151600@vallentunaosseby.se
SUMMARY:Rikslägret
DESCRIPTION:När: Vecka 26Plats: IdreFör: Ungdomar 13-16 årRikslägerbloggen: Rikslägret i orientering | En blogg för deltagare på Rikslägret i orientering (wordpress.com)Anmälda till Rikslägret: Eventor – Aktivitet: Rikslägret ungdom (13-16 år) (orientering.se)
URL:https://vallentunaosseby.se/event/rikslagret/
END:VEVENT
BEGIN:VEVENT
DTSTART;TZID=Europe/Stockholm:20230628T180000
DTEND;TZID=Europe/Stockholm:20230628T193000
DTSTAMP:20260424T001527
CREATED:20230611T193521Z
LAST-MODIFIED:20230611T193522Z
UID:2076-1687975200-1687980600@vallentunaosseby.se
SUMMARY:Rånäs Sprint Cup Etapp 3
DESCRIPTION:Eventor – Tävlingsinformation: Rånäs Sprint Cup Etapp 3 (orientering.se)
URL:https://vallentunaosseby.se/event/ranas-sprint-cup-etapp-3/
END:VEVENT
END:VCALENDAR