BEGIN:VCALENDAR
VERSION:2.0
PRODID:-//vallentunaosseby.se - ECPv6.15.20//NONSGML v1.0//EN
CALSCALE:GREGORIAN
METHOD:PUBLISH
X-ORIGINAL-URL:https://vallentunaosseby.se
X-WR-CALDESC:Händelser för vallentunaosseby.se
REFRESH-INTERVAL;VALUE=DURATION:PT1H
X-Robots-Tag:noindex
X-PUBLISHED-TTL:PT1H
BEGIN:VTIMEZONE
TZID:Europe/Stockholm
BEGIN:DAYLIGHT
TZOFFSETFROM:+0100
TZOFFSETTO:+0200
TZNAME:CEST
DTSTART:20220327T010000
END:DAYLIGHT
BEGIN:STANDARD
TZOFFSETFROM:+0200
TZOFFSETTO:+0100
TZNAME:CET
DTSTART:20221030T010000
END:STANDARD
BEGIN:DAYLIGHT
TZOFFSETFROM:+0100
TZOFFSETTO:+0200
TZNAME:CEST
DTSTART:20230326T010000
END:DAYLIGHT
BEGIN:STANDARD
TZOFFSETFROM:+0200
TZOFFSETTO:+0100
TZNAME:CET
DTSTART:20231029T010000
END:STANDARD
BEGIN:DAYLIGHT
TZOFFSETFROM:+0100
TZOFFSETTO:+0200
TZNAME:CEST
DTSTART:20240331T010000
END:DAYLIGHT
BEGIN:STANDARD
TZOFFSETFROM:+0200
TZOFFSETTO:+0100
TZNAME:CET
DTSTART:20241027T010000
END:STANDARD
END:VTIMEZONE
BEGIN:VEVENT
DTSTART;TZID=Europe/Stockholm:20230810T180000
DTEND;TZID=Europe/Stockholm:20230810T200000
DTSTAMP:20260423T195141
CREATED:20230807T112752Z
LAST-MODIFIED:20230807T112753Z
UID:2122-1691690400-1691697600@vallentunaosseby.se
SUMMARY:Provlöpning inför tävlingen 27/8
DESCRIPTION:Vi behöver provlöpa banorna inför vår tävling 27/8. \n\n\n\nSamling vid Törnskogens norra parkering.
URL:https://vallentunaosseby.se/event/provlopning-infor-tavlingen-27-8/
END:VEVENT
BEGIN:VEVENT
DTSTART;TZID=Europe/Stockholm:20230813T100000
DTEND;TZID=Europe/Stockholm:20230813T120000
DTSTAMP:20260423T195141
CREATED:20230607T175955Z
LAST-MODIFIED:20230607T180002Z
UID:2024-1691920800-1691928000@vallentunaosseby.se
SUMMARY:Lännamedeln
DESCRIPTION:Eventor – Tävlingsinformation: Lännamedeln (orientering.se)
URL:https://vallentunaosseby.se/event/lannamedeln/
END:VEVENT
BEGIN:VEVENT
DTSTART;TZID=Europe/Stockholm:20230814T190000
DTEND;TZID=Europe/Stockholm:20230814T210000
DTSTAMP:20260423T195141
CREATED:20230523T062841Z
LAST-MODIFIED:20230523T062841Z
UID:1972-1692039600-1692046800@vallentunaosseby.se
SUMMARY:Styrelsemöte
DESCRIPTION:Klubbstugan
URL:https://vallentunaosseby.se/event/styrelsemote-8/
END:VEVENT
BEGIN:VEVENT
DTSTART;TZID=Europe/Stockholm:20230815T180000
DTEND;TZID=Europe/Stockholm:20230815T200000
DTSTAMP:20260423T195141
CREATED:20230807T113002Z
LAST-MODIFIED:20230815T141419Z
UID:2124-1692122400-1692129600@vallentunaosseby.se
SUMMARY:Provlöpning inför tävlingen 27/8
DESCRIPTION:Vi behöver provlöpa banorna inför vår tävling 27/8. \n\n\n\nSamling vid Törnskogens norra parkering här: https://www.hitta.se/kartan?usergeo=1&s=82523151 \n\n\n\nKör in från väg 873 som går mellan Tpl Hagbylund och Väsjön.
URL:https://vallentunaosseby.se/event/provlopning-infor-tavlingen-27-8-2/
END:VEVENT
BEGIN:VEVENT
DTSTART;TZID=Europe/Stockholm:20230817T180000
DTEND;TZID=Europe/Stockholm:20230817T200000
DTSTAMP:20260423T195141
CREATED:20230807T113108Z
LAST-MODIFIED:20230815T141535Z
UID:2126-1692295200-1692302400@vallentunaosseby.se
SUMMARY:Provlöpning inför tävlingen 27/8
DESCRIPTION:Vi behöver provlöpa banorna inför vår tävling 27/8. \n\n\n\nSamling vid Törnskogens norra parkering här: https://www.hitta.se/kartan?usergeo=1&s=82523151 \n\n\n\nKör in från väg 873 som går mellan Tpl Hagbylund och Väsjön.
URL:https://vallentunaosseby.se/event/provlopning-infor-tavlingen-27-8-3/
END:VEVENT
BEGIN:VEVENT
DTSTART;TZID=Europe/Stockholm:20230819T100000
DTEND;TZID=Europe/Stockholm:20230819T120000
DTSTAMP:20260423T195141
CREATED:20230607T180105Z
LAST-MODIFIED:20230607T182146Z
UID:2026-1692439200-1692446400@vallentunaosseby.se
SUMMARY:Långhundradubbeln\, medel\, UC
DESCRIPTION:Eventor – Tävlingsinformation: Långhundradubbeln\, medel (orientering.se) \n\n\n\nDeltävling 1 i Upplandscupen
URL:https://vallentunaosseby.se/event/langhundradubbeln-medel/
END:VEVENT
BEGIN:VEVENT
DTSTART;TZID=Europe/Stockholm:20230820T100000
DTEND;TZID=Europe/Stockholm:20230820T120000
DTSTAMP:20260423T195141
CREATED:20230607T180205Z
LAST-MODIFIED:20230607T180206Z
UID:2028-1692525600-1692532800@vallentunaosseby.se
SUMMARY:Långhundradubbeln\, lång
DESCRIPTION:Eventor – Tävlingsinformation: Långhundradubbeln\, lång (orientering.se)
URL:https://vallentunaosseby.se/event/langhundradubbeln-lang/
END:VEVENT
BEGIN:VEVENT
DTSTART;TZID=Europe/Stockholm:20230822T180000
DTEND;TZID=Europe/Stockholm:20230822T193000
DTSTAMP:20260423T195141
CREATED:20230711T175611Z
LAST-MODIFIED:20230711T175640Z
UID:2117-1692727200-1692732600@vallentunaosseby.se
SUMMARY:Ungdomsträning med träning för alla
DESCRIPTION:Plats: Domarudden\, badplatsen
URL:https://vallentunaosseby.se/event/ungdomstraning-med-traning-for-alla-9/
END:VEVENT
BEGIN:VEVENT
DTSTART;TZID=Europe/Stockholm:20230826T080000
DTEND;TZID=Europe/Stockholm:20230826T170000
DTSTAMP:20260423T195141
CREATED:20230523T062156Z
LAST-MODIFIED:20230523T062716Z
UID:1967-1693036800-1693069200@vallentunaosseby.se
SUMMARY:VÖOL arrangerar tävling
DESCRIPTION:Vi samarrangerar två nationella tävlingar i Törnskogen med Väsby OK.VÖOL har bland annat ansvar för: banläggning söndag samt servering\, parkering och några i sekretariatet båda dagarna.
URL:https://vallentunaosseby.se/event/vool-arrangerar-tavling-2/
END:VEVENT
BEGIN:VEVENT
DTSTART;TZID=Europe/Stockholm:20230827T080000
DTEND;TZID=Europe/Stockholm:20230827T170000
DTSTAMP:20260423T195141
CREATED:20230206T170045Z
LAST-MODIFIED:20230607T182339Z
UID:1539-1693123200-1693155600@vallentunaosseby.se
SUMMARY:VÖOL arrangerar tävling
DESCRIPTION:Vi samarrangerar två nationella tävlingar i Törnskogen med Väsby OK.VÖOL har bland annat ansvar för: banläggning söndag samt servering\, parkering och några i sekretariatet båda dagarna. \n\n\n\nUngdomar får deltaga i tävlingen om de hjälper till innan och efter. \n\n\n\nEventor – Tävlingsinformation: Vallentuna-Össeby\, långdistans (orientering.se) \n\n\n\nDeltävling 2 i Upplandscupen
URL:https://vallentunaosseby.se/event/vool-arrangerar-tavling/
END:VEVENT
BEGIN:VEVENT
DTSTART;TZID=Europe/Stockholm:20230829T180000
DTEND;TZID=Europe/Stockholm:20230829T200000
DTSTAMP:20260423T195141
CREATED:20230202T204728Z
LAST-MODIFIED:20230820T193208Z
UID:1515-1693332000-1693339200@vallentunaosseby.se
SUMMARY:Medel-KM
DESCRIPTION:KM medel i Vaxholm tisdagen den 29 augusti \n\n\n\nEventor – Tävlingsinformation: Medel KM WOK\, VÖOL\, OKÖ (orientering.se)
URL:https://vallentunaosseby.se/event/medel-km/
END:VEVENT
BEGIN:VEVENT
DTSTART;TZID=Europe/Stockholm:20230831T180000
DTEND;TZID=Europe/Stockholm:20230831T200000
DTSTAMP:20260423T195141
CREATED:20230202T203730Z
LAST-MODIFIED:20230820T193253Z
UID:1513-1693504800-1693512000@vallentunaosseby.se
SUMMARY:Sprint-KM
DESCRIPTION:KM-sprint i Åkersberga torsdagen den 31 augusti. Läs mer på Eventor: https://eventor.orientering.se/Events/Show/43308
URL:https://vallentunaosseby.se/event/sprint-km/
END:VEVENT
END:VCALENDAR