BEGIN:VCALENDAR
VERSION:2.0
PRODID:-//vallentunaosseby.se - ECPv6.15.20//NONSGML v1.0//EN
CALSCALE:GREGORIAN
METHOD:PUBLISH
X-ORIGINAL-URL:https://vallentunaosseby.se
X-WR-CALDESC:Händelser för vallentunaosseby.se
REFRESH-INTERVAL;VALUE=DURATION:PT1H
X-Robots-Tag:noindex
X-PUBLISHED-TTL:PT1H
BEGIN:VTIMEZONE
TZID:Europe/Stockholm
BEGIN:DAYLIGHT
TZOFFSETFROM:+0100
TZOFFSETTO:+0200
TZNAME:CEST
DTSTART:20220327T010000
END:DAYLIGHT
BEGIN:STANDARD
TZOFFSETFROM:+0200
TZOFFSETTO:+0100
TZNAME:CET
DTSTART:20221030T010000
END:STANDARD
BEGIN:DAYLIGHT
TZOFFSETFROM:+0100
TZOFFSETTO:+0200
TZNAME:CEST
DTSTART:20230326T010000
END:DAYLIGHT
BEGIN:STANDARD
TZOFFSETFROM:+0200
TZOFFSETTO:+0100
TZNAME:CET
DTSTART:20231029T010000
END:STANDARD
BEGIN:DAYLIGHT
TZOFFSETFROM:+0100
TZOFFSETTO:+0200
TZNAME:CEST
DTSTART:20240331T010000
END:DAYLIGHT
BEGIN:STANDARD
TZOFFSETFROM:+0200
TZOFFSETTO:+0100
TZNAME:CET
DTSTART:20241027T010000
END:STANDARD
END:VTIMEZONE
BEGIN:VEVENT
DTSTART;TZID=Europe/Stockholm:20231205T180000
DTEND;TZID=Europe/Stockholm:20231205T193000
DTSTAMP:20260423T121512
CREATED:20230821T054600Z
LAST-MODIFIED:20230821T054610Z
UID:2185-1701799200-1701804600@vallentunaosseby.se
SUMMARY:Ungdomsträning med träning för alla
DESCRIPTION:Hagaskolan
URL:https://vallentunaosseby.se/event/ungdomstraning-med-traning-for-alla-23/
END:VEVENT
BEGIN:VEVENT
DTSTART;TZID=Europe/Stockholm:20231206T180000
DTEND;TZID=Europe/Stockholm:20231206T200000
DTSTAMP:20260423T121512
CREATED:20231104T103547Z
LAST-MODIFIED:20231104T103656Z
UID:2360-1701885600-1701892800@vallentunaosseby.se
SUMMARY:UBN 2 - Uppland by Night
DESCRIPTION:Nattcup i Uppland \n\n\n\nAnmälan görs här: Eventor – Tävlingsinformation: Upplandsbygden By Night (UBN) Etapp 2 (orientering.se)
URL:https://vallentunaosseby.se/event/ubn-2-uppland-by-night/
END:VEVENT
BEGIN:VEVENT
DTSTART;TZID=Europe/Stockholm:20231207T180000
DTEND;TZID=Europe/Stockholm:20231207T203000
DTSTAMP:20260423T121512
CREATED:20231010T182927Z
LAST-MODIFIED:20231119T170630Z
UID:2321-1701972000-1701981000@vallentunaosseby.se
SUMMARY:Nattråttan 2
DESCRIPTION:Nattråttan är en natt-cup i 4 delar. \n\n\n\nEventor – Tävlingsinformation: Nattråttan\, etapp 2 (orientering.se)
URL:https://vallentunaosseby.se/event/nattrattan-2-2/
END:VEVENT
BEGIN:VEVENT
DTSTART;TZID=Europe/Stockholm:20231211T190000
DTEND;TZID=Europe/Stockholm:20231211T210000
DTSTAMP:20260423T121512
CREATED:20230523T063319Z
LAST-MODIFIED:20230523T063320Z
UID:1981-1702321200-1702328400@vallentunaosseby.se
SUMMARY:Styrelsemöte
DESCRIPTION:Klubbstugan
URL:https://vallentunaosseby.se/event/styrelsemote-12/
END:VEVENT
BEGIN:VEVENT
DTSTART;TZID=Europe/Stockholm:20231212T180000
DTEND;TZID=Europe/Stockholm:20231212T193000
DTSTAMP:20260423T121512
CREATED:20230821T054431Z
LAST-MODIFIED:20230821T054445Z
UID:2182-1702404000-1702409400@vallentunaosseby.se
SUMMARY:Ungdomsträning med träning för alla
DESCRIPTION:Hagaskolan
URL:https://vallentunaosseby.se/event/ungdomstraning-med-traning-for-alla-22/
END:VEVENT
BEGIN:VEVENT
DTSTART;TZID=Europe/Stockholm:20231213T190000
DTEND;TZID=Europe/Stockholm:20231213T200000
DTSTAMP:20260423T121512
CREATED:20231105T195234Z
LAST-MODIFIED:20231105T195234Z
UID:2384-1702494000-1702497600@vallentunaosseby.se
SUMMARY:SBN 2 - Stockholm by Night
DESCRIPTION:Eventor – Tävlingsinformation: Stockholm By Night\, #2 (orientering.se)
URL:https://vallentunaosseby.se/event/sbn-2-stockholm-by-night/
END:VEVENT
BEGIN:VEVENT
DTSTART;TZID=Europe/Stockholm:20231214T180000
DTEND;TZID=Europe/Stockholm:20231214T193000
DTSTAMP:20260423T121512
CREATED:20230926T114617Z
LAST-MODIFIED:20230926T115029Z
UID:2269-1702576800-1702582200@vallentunaosseby.se
SUMMARY:Torsdagsfys - träning för alla
DESCRIPTION:Vi utgår från klubbstugan och springer intervaller eller backe.Dusch och soppa med mackor efteråt för de som vill.
URL:https://vallentunaosseby.se/event/torsdagsfys-traning-for-alla-20/
END:VEVENT
BEGIN:VEVENT
DTSTART;TZID=Europe/Stockholm:20231216T100000
DTEND;TZID=Europe/Stockholm:20231216T120000
DTSTAMP:20260423T121512
CREATED:20231121T131028Z
LAST-MODIFIED:20231121T131131Z
UID:2394-1702720800-1702728000@vallentunaosseby.se
SUMMARY:Tomtejakten
DESCRIPTION:Vaxholms OK bjuder in till rogainingen Tomtejakten den 16 december. \n\n\n\nEventor – Tävlingsinformation: Tomtejakten (orientering.se)
URL:https://vallentunaosseby.se/event/tomtejakten-2/
END:VEVENT
BEGIN:VEVENT
DTSTART;TZID=Europe/Stockholm:20231219T180000
DTEND;TZID=Europe/Stockholm:20231219T193000
DTSTAMP:20260423T121512
CREATED:20230821T054640Z
LAST-MODIFIED:20231213T152005Z
UID:2188-1703008800-1703014200@vallentunaosseby.se
SUMMARY:Ungdomsträning med Julkul i Lindholmen
DESCRIPTION:Julkul hos Kolm i Lindholmen
URL:https://vallentunaosseby.se/event/ungdomstraning-med-traning-for-alla-24/
END:VEVENT
BEGIN:VEVENT
DTSTART;TZID=Europe/Stockholm:20231221T180000
DTEND;TZID=Europe/Stockholm:20231221T193000
DTSTAMP:20260423T121512
CREATED:20230926T114658Z
LAST-MODIFIED:20231121T132113Z
UID:2271-1703181600-1703187000@vallentunaosseby.se
SUMMARY:Torsdagsfys - träning för alla - Julavslutning
DESCRIPTION:Vi utgår från klubbstugan och springer intervaller eller backe.Dusch och risgrynsgröt med pepparkakor efteråt för de som vill.
URL:https://vallentunaosseby.se/event/torsdagsfys-traning-for-alla-21/
END:VEVENT
BEGIN:VEVENT
DTSTART;TZID=Europe/Stockholm:20231225T100000
DTEND;TZID=Europe/Stockholm:20231225T120000
DTSTAMP:20260423T121512
CREATED:20230926T115407Z
LAST-MODIFIED:20231211T215200Z
UID:2283-1703498400-1703505600@vallentunaosseby.se
SUMMARY:Juldags-OL
DESCRIPTION:Traditionsenlig skaka ner julmaten-träning.Plats: Parkering vid Lovisedalsskolan.Start/mål i närheten med julliga tilltugg. \n\n\n\nTid: Fri start mellan 10.00-11.00 \n\n\n\nArrangör:Peter Brunnberg
URL:https://vallentunaosseby.se/event/juldags-ol-3/
END:VEVENT
END:VCALENDAR