BEGIN:VCALENDAR
VERSION:2.0
PRODID:-//vallentunaosseby.se - ECPv6.15.20//NONSGML v1.0//EN
CALSCALE:GREGORIAN
METHOD:PUBLISH
X-WR-CALNAME:vallentunaosseby.se
X-ORIGINAL-URL:https://vallentunaosseby.se
X-WR-CALDESC:Händelser för vallentunaosseby.se
REFRESH-INTERVAL;VALUE=DURATION:PT1H
X-Robots-Tag:noindex
X-PUBLISHED-TTL:PT1H
BEGIN:VTIMEZONE
TZID:Europe/Stockholm
BEGIN:DAYLIGHT
TZOFFSETFROM:+0100
TZOFFSETTO:+0200
TZNAME:CEST
DTSTART:20230326T010000
END:DAYLIGHT
BEGIN:STANDARD
TZOFFSETFROM:+0200
TZOFFSETTO:+0100
TZNAME:CET
DTSTART:20231029T010000
END:STANDARD
BEGIN:DAYLIGHT
TZOFFSETFROM:+0100
TZOFFSETTO:+0200
TZNAME:CEST
DTSTART:20240331T010000
END:DAYLIGHT
BEGIN:STANDARD
TZOFFSETFROM:+0200
TZOFFSETTO:+0100
TZNAME:CET
DTSTART:20241027T010000
END:STANDARD
BEGIN:DAYLIGHT
TZOFFSETFROM:+0100
TZOFFSETTO:+0200
TZNAME:CEST
DTSTART:20250330T010000
END:DAYLIGHT
BEGIN:STANDARD
TZOFFSETFROM:+0200
TZOFFSETTO:+0100
TZNAME:CET
DTSTART:20251026T010000
END:STANDARD
END:VTIMEZONE
BEGIN:VEVENT
DTSTART;TZID=Europe/Stockholm:20240303T100000
DTEND;TZID=Europe/Stockholm:20240303T110000
DTSTAMP:20260421T092132
CREATED:20240228T131620Z
LAST-MODIFIED:20240228T131621Z
UID:2721-1709460000-1709463600@vallentunaosseby.se
SUMMARY:Vinterträning 3 Mars
DESCRIPTION:Träningen är vid Össeby IP vid klubbstugan
URL:https://vallentunaosseby.se/event/vintertraning-3-mars/
END:VEVENT
BEGIN:VEVENT
DTSTART;TZID=Europe/Stockholm:20240305T180000
DTEND;TZID=Europe/Stockholm:20240305T183000
DTSTAMP:20260421T092132
CREATED:20231218T160807Z
LAST-MODIFIED:20240123T154309Z
UID:2502-1709661600-1709663400@vallentunaosseby.se
SUMMARY:PB vintercup 4
DESCRIPTION:Plats: Gustavs udde. Avslutning med korvgrillning \n\n\n\nInbjudan: PB vintercup
URL:https://vallentunaosseby.se/event/pb-vintercup-4/
END:VEVENT
BEGIN:VEVENT
DTSTART;TZID=Europe/Stockholm:20240307T180000
DTEND;TZID=Europe/Stockholm:20240307T193000
DTSTAMP:20260421T092132
CREATED:20231218T160034Z
LAST-MODIFIED:20231218T160323Z
UID:2481-1709834400-1709839800@vallentunaosseby.se
SUMMARY:Torsdagsfys - träning för alla
DESCRIPTION:Vi utgår från klubbstugan vid Össeby IP och springer intervaller eller backe.Dusch och soppa med mackor efteråt för de som vill.
URL:https://vallentunaosseby.se/event/torsdagsfys-traning-for-alla-26/
END:VEVENT
BEGIN:VEVENT
DTSTART;TZID=Europe/Stockholm:20240310T100000
DTEND;TZID=Europe/Stockholm:20240310T103000
DTSTAMP:20260421T092132
CREATED:20240306T071017Z
LAST-MODIFIED:20240306T071017Z
UID:2732-1710064800-1710066600@vallentunaosseby.se
SUMMARY:Vinterträning 10 mars
DESCRIPTION:Träning tillsammans med Waxholms OK vid hagstugeparkeringen Bogesund \n\n\n\n\n Eventor – Tävlingsinformation: Vårsolen (orientering.se)
URL:https://vallentunaosseby.se/event/vintertraning-10-mars/
END:VEVENT
BEGIN:VEVENT
DTSTART;TZID=Europe/Stockholm:20240312T180000
DTEND;TZID=Europe/Stockholm:20240312T193000
DTSTAMP:20260421T092132
CREATED:20231218T155452Z
LAST-MODIFIED:20231218T155453Z
UID:2465-1710266400-1710271800@vallentunaosseby.se
SUMMARY:Ungdomsträning med träning för alla
DESCRIPTION:Klubbstugan\, Össeby IP
URL:https://vallentunaosseby.se/event/ungdomstraning-med-traning-for-alla-28/
END:VEVENT
BEGIN:VEVENT
DTSTART;TZID=Europe/Stockholm:20240314T180000
DTEND;TZID=Europe/Stockholm:20240314T193000
DTSTAMP:20260421T092132
CREATED:20231218T160119Z
LAST-MODIFIED:20240107T180627Z
UID:2483-1710439200-1710444600@vallentunaosseby.se
SUMMARY:Torsdagsfys - träning för alla
DESCRIPTION:Sista torsdagsfysen för i vår. \n\n\n\nVi utgår från klubbstugan vid Össeby IP och springer intervaller eller backe.Dusch och soppa med mackor efteråt för de som vill.
URL:https://vallentunaosseby.se/event/torsdagsfys-traning-for-alla-27/
END:VEVENT
BEGIN:VEVENT
DTSTART;TZID=Europe/Stockholm:20240316T093000
DTEND;TZID=Europe/Stockholm:20240316T153000
DTSTAMP:20260421T092132
CREATED:20240225T184809Z
LAST-MODIFIED:20240225T184919Z
UID:2717-1710581400-1710603000@vallentunaosseby.se
SUMMARY:Upptaktsdag UOF ungdom
DESCRIPTION:Sigtuna OK och UOF bjuder in till upptaktsdag för HD13-16 ungdomarna i distriktet.Samling 09.30 vid Sigtuna OK:s klubbstuga i Hällsbo\, Sigtuna.Två träningspass under dagen med fokus på teknik och fart.Egen lunchmatsäck medtages.Avslut på dagen ca 15.00/15.30. \n\n\n\nAnmälan: Eventor – Tävlingsinformation: Upptaktsdag med UOF för ungdomar (orientering.se)
URL:https://vallentunaosseby.se/event/upptaktsdag-uof-ungdom/
END:VEVENT
BEGIN:VEVENT
DTSTART;TZID=Europe/Stockholm:20240317T100000
DTEND;TZID=Europe/Stockholm:20240317T110000
DTSTAMP:20260421T092132
CREATED:20240312T070859Z
LAST-MODIFIED:20240312T070859Z
UID:2737-1710669600-1710673200@vallentunaosseby.se
SUMMARY:Vinterträning 17 mars
DESCRIPTION:Träning vid Arninge och Slutet av Antennvägen\, infart vid Circle-K
URL:https://vallentunaosseby.se/event/vintertraning-17-mars/
END:VEVENT
BEGIN:VEVENT
DTSTART;TZID=Europe/Stockholm:20240317T100000
DTEND;TZID=Europe/Stockholm:20240317T130000
DTSTAMP:20260421T092132
CREATED:20240306T094431Z
LAST-MODIFIED:20240306T094431Z
UID:2734-1710669600-1710680400@vallentunaosseby.se
SUMMARY:Kringelträffen 17/3
DESCRIPTION:Eventor – Tävlingsinformation: Kringelträffen + DM\, medel\, Södermanland (orientering.se)
URL:https://vallentunaosseby.se/event/kringeltraffen-17-3/
END:VEVENT
BEGIN:VEVENT
DTSTART;TZID=Europe/Stockholm:20240319T180000
DTEND;TZID=Europe/Stockholm:20240319T193000
DTSTAMP:20260421T092132
CREATED:20231218T155607Z
LAST-MODIFIED:20240115T154113Z
UID:2467-1710871200-1710876600@vallentunaosseby.se
SUMMARY:Ungdomsträning med start av nybörjarkurs
DESCRIPTION:Start av nybörjarkurs \n\n\n\nKlubbstugan\, Össeby IP
URL:https://vallentunaosseby.se/event/ungdomstraning-med-traning-for-alla-29/
END:VEVENT
BEGIN:VEVENT
DTSTART;TZID=Europe/Stockholm:20240321T180000
DTEND;TZID=Europe/Stockholm:20240321T193000
DTSTAMP:20260421T092132
CREATED:20231218T160142Z
LAST-MODIFIED:20240107T180518Z
UID:2485-1711044000-1711049400@vallentunaosseby.se
SUMMARY:KM - natt
DESCRIPTION:Klubbmästerskap i nattorientering. \n\n\n\nPlats: Åkersberga \n\n\n\nInformation och anmälan: Eventor – Tävlingsinformation: Natt-KM för Vallentuna-Össeby. OL\, Waxholms OK och OK Österåker (orientering.se)
URL:https://vallentunaosseby.se/event/torsdagsfys-traning-for-alla-28/
END:VEVENT
BEGIN:VEVENT
DTSTART;TZID=Europe/Stockholm:20240324T100000
DTEND;TZID=Europe/Stockholm:20240324T103000
DTSTAMP:20260421T092132
CREATED:20240319T074524Z
LAST-MODIFIED:20240324T064343Z
UID:2745-1711274400-1711276200@vallentunaosseby.se
SUMMARY:Vinterträning 24 mars
DESCRIPTION:Provspringning av banor för orientringsskyttetävlingen 1-2 Juni. \n\n\n\nSamling\, skyttebanan vid Yesterday \n\n\n\nChrister A möter upp
URL:https://vallentunaosseby.se/event/vintertraning-24-mars/
END:VEVENT
BEGIN:VEVENT
DTSTART;TZID=Europe/Stockholm:20240326T093000
DTEND;TZID=Europe/Stockholm:20240326T130000
DTSTAMP:20260421T092132
CREATED:20240305T200051Z
LAST-MODIFIED:20240305T200916Z
UID:2728-1711445400-1711458000@vallentunaosseby.se
SUMMARY:Roslagsveteranerna
DESCRIPTION:Vi arrangerar Roslagsveteranerna vid Vallentuna IP \n\n\n\nInbjudan på eventor
URL:https://vallentunaosseby.se/event/roslagsveteranerna-7/
END:VEVENT
BEGIN:VEVENT
DTSTART;TZID=Europe/Stockholm:20240326T180000
DTEND;TZID=Europe/Stockholm:20240326T193000
DTSTAMP:20260421T092132
CREATED:20240107T173214Z
LAST-MODIFIED:20240107T173215Z
UID:2524-1711476000-1711481400@vallentunaosseby.se
SUMMARY:Ungdomsträning med träning för alla
DESCRIPTION:
URL:https://vallentunaosseby.se/event/ungdomstraning-med-traning-for-alla-30/
END:VEVENT
END:VCALENDAR