BEGIN:VCALENDAR
VERSION:2.0
PRODID:-//vallentunaosseby.se - ECPv6.15.20//NONSGML v1.0//EN
CALSCALE:GREGORIAN
METHOD:PUBLISH
X-ORIGINAL-URL:https://vallentunaosseby.se
X-WR-CALDESC:Händelser för vallentunaosseby.se
REFRESH-INTERVAL;VALUE=DURATION:PT1H
X-Robots-Tag:noindex
X-PUBLISHED-TTL:PT1H
BEGIN:VTIMEZONE
TZID:Europe/Stockholm
BEGIN:DAYLIGHT
TZOFFSETFROM:+0100
TZOFFSETTO:+0200
TZNAME:CEST
DTSTART:20230326T010000
END:DAYLIGHT
BEGIN:STANDARD
TZOFFSETFROM:+0200
TZOFFSETTO:+0100
TZNAME:CET
DTSTART:20231029T010000
END:STANDARD
BEGIN:DAYLIGHT
TZOFFSETFROM:+0100
TZOFFSETTO:+0200
TZNAME:CEST
DTSTART:20240331T010000
END:DAYLIGHT
BEGIN:STANDARD
TZOFFSETFROM:+0200
TZOFFSETTO:+0100
TZNAME:CET
DTSTART:20241027T010000
END:STANDARD
BEGIN:DAYLIGHT
TZOFFSETFROM:+0100
TZOFFSETTO:+0200
TZNAME:CEST
DTSTART:20250330T010000
END:DAYLIGHT
BEGIN:STANDARD
TZOFFSETFROM:+0200
TZOFFSETTO:+0100
TZNAME:CET
DTSTART:20251026T010000
END:STANDARD
END:VTIMEZONE
BEGIN:VEVENT
DTSTART;TZID=Europe/Stockholm:20240501T100000
DTEND;TZID=Europe/Stockholm:20240501T120000
DTSTAMP:20260421T062633
CREATED:20240114T183310Z
LAST-MODIFIED:20240310T145535Z
UID:2595-1714557600-1714564800@vallentunaosseby.se
SUMMARY:IFK Lidingö
DESCRIPTION:IFK Lidingös långdistans 1 maj: Eventor – Tävlingsinformation: IFK Lidingös långdistans 1 maj (orientering.se) \n\n\n\nPlats: Lidingö
URL:https://vallentunaosseby.se/event/ifk-lidingo/
END:VEVENT
BEGIN:VEVENT
DTSTART;TZID=Europe/Stockholm:20240504T120000
DTEND;TZID=Europe/Stockholm:20240505T120000
DTSTAMP:20260421T062633
CREATED:20240114T183431Z
LAST-MODIFIED:20240114T183437Z
UID:2597-1714824000-1714910400@vallentunaosseby.se
SUMMARY:10-mila
DESCRIPTION:Nynäshamn: Eventor – Tävlingsinformation: Tiomila\, Nynäshamn (Stafettligan\, #3) (orientering.se)
URL:https://vallentunaosseby.se/event/10-mila/
END:VEVENT
BEGIN:VEVENT
DTSTART;TZID=Europe/Stockholm:20240507T180000
DTEND;TZID=Europe/Stockholm:20240507T193000
DTSTAMP:20260421T062633
CREATED:20240107T173442Z
LAST-MODIFIED:20240404T142836Z
UID:2532-1715104800-1715110200@vallentunaosseby.se
SUMMARY:Ungdomsträning med träning för alla
DESCRIPTION:Träning för nybörjar- och fortsättningsgrupper. (Grön till violett svårighetsgrad)Även vuxna är välkomna att vara med. \n\n\n\nPlats: Klubbstugan vid Össeby IP
URL:https://vallentunaosseby.se/event/ungdomstraning-med-traning-for-alla-34/
END:VEVENT
BEGIN:VEVENT
DTSTART;TZID=Europe/Stockholm:20240511T100000
DTEND;TZID=Europe/Stockholm:20240511T120000
DTSTAMP:20260421T062633
CREATED:20240114T183541Z
LAST-MODIFIED:20240114T183542Z
UID:2600-1715421600-1715428800@vallentunaosseby.se
SUMMARY:OK Roslagen
DESCRIPTION:Roslagshelg\, dag 1\, lång: Eventor – Tävlingsinformation: Roslagshelg\, dag 1\, lång (orientering.se)
URL:https://vallentunaosseby.se/event/ok-roslagen/
END:VEVENT
BEGIN:VEVENT
DTSTART;TZID=Europe/Stockholm:20240512T100000
DTEND;TZID=Europe/Stockholm:20240512T120000
DTSTAMP:20260421T062633
CREATED:20240114T183644Z
LAST-MODIFIED:20240114T183645Z
UID:2602-1715508000-1715515200@vallentunaosseby.se
SUMMARY:OK Roslagen
DESCRIPTION:Roslagshelg\, dag 2\, medel: Eventor – Tävlingsinformation: Roslagshelg\, dag 2\, medel (orientering.se)
URL:https://vallentunaosseby.se/event/ok-roslagen-2/
END:VEVENT
BEGIN:VEVENT
DTSTART;TZID=Europe/Stockholm:20240514T180000
DTEND;TZID=Europe/Stockholm:20240514T193000
DTSTAMP:20260421T062633
CREATED:20240107T173531Z
LAST-MODIFIED:20240225T181733Z
UID:2534-1715709600-1715715000@vallentunaosseby.se
SUMMARY:Till Skogs etapp 1 (även öppet för vuxna)
DESCRIPTION:Arrangör: VÖOL \n\n\n\nVid klubbstugan Össeby IP \n\n\n\nEventor – Tävlingsinformation: Till Skogs (orientering.se)
URL:https://vallentunaosseby.se/event/till-skogs-1/
END:VEVENT
BEGIN:VEVENT
DTSTART;TZID=Europe/Stockholm:20240515T180000
DTEND;TZID=Europe/Stockholm:20240515T200000
DTSTAMP:20260421T062633
CREATED:20240114T183755Z
LAST-MODIFIED:20240114T183935Z
UID:2604-1715796000-1715803200@vallentunaosseby.se
SUMMARY:Stockholm City Cup 1
DESCRIPTION:Eventor – Tävlingsinformation: Stockholm City Cup\, #1 (orientering.se)
URL:https://vallentunaosseby.se/event/stockholm-city-cup-1/
END:VEVENT
BEGIN:VEVENT
DTSTART;TZID=Europe/Stockholm:20240516T180000
DTEND;TZID=Europe/Stockholm:20240516T190000
DTSTAMP:20260421T062633
CREATED:20240430T083212Z
LAST-MODIFIED:20240508T210820Z
UID:2886-1715882400-1715886000@vallentunaosseby.se
SUMMARY:Vårmästerskapet
DESCRIPTION:Arrangör : Peter Brunnberg \n\n\n\nInbjudan med mera: Vårmästerskapet 2024 – vallentunaosseby.se
URL:https://vallentunaosseby.se/event/varmasterskapet-2/
END:VEVENT
BEGIN:VEVENT
DTSTART;TZID=Europe/Stockholm:20240520T190000
DTEND;TZID=Europe/Stockholm:20240520T203000
DTSTAMP:20260421T062633
CREATED:20240505T133528Z
LAST-MODIFIED:20240505T133529Z
UID:2891-1716231600-1716237000@vallentunaosseby.se
SUMMARY:Styrelsemöte
DESCRIPTION:Klubbstugan
URL:https://vallentunaosseby.se/event/styrelsemote-14/
END:VEVENT
BEGIN:VEVENT
DTSTART;TZID=Europe/Stockholm:20240521T180000
DTEND;TZID=Europe/Stockholm:20240521T193000
DTSTAMP:20260421T062633
CREATED:20240107T173607Z
LAST-MODIFIED:20240225T181529Z
UID:2536-1716314400-1716319800@vallentunaosseby.se
SUMMARY:Till Skogs etapp 2 (även öppet för vuxna)
DESCRIPTION:Arrangör: OK Roslagen
URL:https://vallentunaosseby.se/event/till-skogs-2/
END:VEVENT
BEGIN:VEVENT
DTSTART;TZID=Europe/Stockholm:20240522T180000
DTEND;TZID=Europe/Stockholm:20240522T200000
DTSTAMP:20260421T062633
CREATED:20240114T183827Z
LAST-MODIFIED:20240114T184003Z
UID:2606-1716400800-1716408000@vallentunaosseby.se
SUMMARY:Stockholm City Cup 2
DESCRIPTION:Eventor – Tävlingsinformation: Stockholm City Cup\, #2 (orientering.se)
URL:https://vallentunaosseby.se/event/stockholm-city-cup-2/
END:VEVENT
BEGIN:VEVENT
DTSTART;TZID=Europe/Stockholm:20240523T180000
DTEND;TZID=Europe/Stockholm:20240523T200000
DTSTAMP:20260421T062633
CREATED:20240114T184147Z
LAST-MODIFIED:20240114T184148Z
UID:2613-1716487200-1716494400@vallentunaosseby.se
SUMMARY:DM-sprint
DESCRIPTION:Rasbo IK: Eventor – Tävlingsinformation: DM\, sprint\, Uppland (orientering.se)
URL:https://vallentunaosseby.se/event/dm-sprint/
END:VEVENT
BEGIN:VEVENT
DTSTART;TZID=Europe/Stockholm:20240525T090000
DTEND;TZID=Europe/Stockholm:20240526T140000
DTSTAMP:20260421T062633
CREATED:20240114T184654Z
LAST-MODIFIED:20240524T220930Z
UID:2615-1716627600-1716732000@vallentunaosseby.se
SUMMARY:Distriktsläger ungdom
DESCRIPTION:VÖOL arrangerar årets distriktsläger för upplands ungdomar på Össeby IP. \n\n\n\nPROGRAM
URL:https://vallentunaosseby.se/event/distriktslager-ungdom/
END:VEVENT
BEGIN:VEVENT
DTSTART;TZID=Europe/Stockholm:20240528T180000
DTEND;TZID=Europe/Stockholm:20240528T193000
DTSTAMP:20260421T062633
CREATED:20240107T173740Z
LAST-MODIFIED:20240526T192643Z
UID:2538-1716919200-1716924600@vallentunaosseby.se
SUMMARY:Till Skogs etapp 3 (även öppet för vuxna)
DESCRIPTION:Arrangör: Länna IF \n\n\n\nEventor – Tävlingsinformation: Till Skogs #3 (orientering.se)
URL:https://vallentunaosseby.se/event/till-skogs-3/
END:VEVENT
BEGIN:VEVENT
DTSTART;TZID=Europe/Stockholm:20240529T180000
DTEND;TZID=Europe/Stockholm:20240529T200000
DTSTAMP:20260421T062633
CREATED:20240114T183911Z
LAST-MODIFIED:20240114T184028Z
UID:2608-1717005600-1717012800@vallentunaosseby.se
SUMMARY:Stockholm City Cup 3
DESCRIPTION:Eventor – Tävlingsinformation: Stockholm City Cup\, #3 (orientering.se)
URL:https://vallentunaosseby.se/event/stockholm-city-cup-3/
END:VEVENT
BEGIN:VEVENT
DTSTART;TZID=Europe/Stockholm:20240530T180000
DTEND;TZID=Europe/Stockholm:20240530T190000
DTSTAMP:20260421T062633
CREATED:20240419T113655Z
LAST-MODIFIED:20240419T113655Z
UID:2815-1717092000-1717095600@vallentunaosseby.se
SUMMARY:Orienteringsträning
DESCRIPTION:Träning vid Harsbro \n\n\n\nBanläggare Peter Sundgren
URL:https://vallentunaosseby.se/event/orienteringstraning-3/
END:VEVENT
END:VCALENDAR