BEGIN:VCALENDAR
VERSION:2.0
PRODID:-//vallentunaosseby.se - ECPv6.15.20//NONSGML v1.0//EN
CALSCALE:GREGORIAN
METHOD:PUBLISH
X-WR-CALNAME:vallentunaosseby.se
X-ORIGINAL-URL:https://vallentunaosseby.se
X-WR-CALDESC:Händelser för vallentunaosseby.se
REFRESH-INTERVAL;VALUE=DURATION:PT1H
X-Robots-Tag:noindex
X-PUBLISHED-TTL:PT1H
BEGIN:VTIMEZONE
TZID:Europe/Stockholm
BEGIN:DAYLIGHT
TZOFFSETFROM:+0100
TZOFFSETTO:+0200
TZNAME:CEST
DTSTART:20230326T010000
END:DAYLIGHT
BEGIN:STANDARD
TZOFFSETFROM:+0200
TZOFFSETTO:+0100
TZNAME:CET
DTSTART:20231029T010000
END:STANDARD
BEGIN:DAYLIGHT
TZOFFSETFROM:+0100
TZOFFSETTO:+0200
TZNAME:CEST
DTSTART:20240331T010000
END:DAYLIGHT
BEGIN:STANDARD
TZOFFSETFROM:+0200
TZOFFSETTO:+0100
TZNAME:CET
DTSTART:20241027T010000
END:STANDARD
BEGIN:DAYLIGHT
TZOFFSETFROM:+0100
TZOFFSETTO:+0200
TZNAME:CEST
DTSTART:20250330T010000
END:DAYLIGHT
BEGIN:STANDARD
TZOFFSETFROM:+0200
TZOFFSETTO:+0100
TZNAME:CET
DTSTART:20251026T010000
END:STANDARD
END:VTIMEZONE
BEGIN:VEVENT
DTSTART;TZID=Europe/Stockholm:20240701T173000
DTEND;TZID=Europe/Stockholm:20240701T204500
DTSTAMP:20260421T024636
CREATED:20240618T060325Z
LAST-MODIFIED:20240618T060325Z
UID:2941-1719855000-1719866700@vallentunaosseby.se
SUMMARY:OK Ravinen\, Trekvällars\, #1\, lång
DESCRIPTION:Eventor – Tävlingsinformation: Trekvällars\, #1\, lång (orientering.se)
URL:https://vallentunaosseby.se/event/ok-ravinen-trekvallars-1-lang/
END:VEVENT
BEGIN:VEVENT
DTSTART;TZID=Europe/Stockholm:20240702T173000
DTEND;TZID=Europe/Stockholm:20240702T204500
DTSTAMP:20260421T024636
CREATED:20240618T060453Z
LAST-MODIFIED:20240618T060453Z
UID:2942-1719941400-1719953100@vallentunaosseby.se
SUMMARY:OK Ravinen\, Trekvällars\, #2\, medel
DESCRIPTION:Eventor – Tävlingsinformation: Trekvällars\, #2\, medel (orientering.se)
URL:https://vallentunaosseby.se/event/ok-ravinen-trekvallars-2-medel/
END:VEVENT
BEGIN:VEVENT
DTSTART;TZID=Europe/Stockholm:20240703T173000
DTEND;TZID=Europe/Stockholm:20240703T204500
DTSTAMP:20260421T024636
CREATED:20240618T060637Z
LAST-MODIFIED:20240618T060637Z
UID:2943-1720027800-1720039500@vallentunaosseby.se
SUMMARY:OK Ravinen\, Trekvällars\, #3 Lång
DESCRIPTION:Eventor – Tävlingsinformation: Trekvällars\, #3\, lång (orientering.se)
URL:https://vallentunaosseby.se/event/ok-ravinen-trekvallars-3-lang/
END:VEVENT
BEGIN:VEVENT
DTSTART;TZID=Europe/Stockholm:20240704T180000
DTEND;TZID=Europe/Stockholm:20240704T203000
DTSTAMP:20260421T024636
CREATED:20240618T060118Z
LAST-MODIFIED:20240618T060118Z
UID:2940-1720116000-1720125000@vallentunaosseby.se
SUMMARY:Rånäs Sprint Cup Etapp 3\, Stavugnen
DESCRIPTION:Eventor – Tävlingsinformation: Rånäs Sprint Cup Etapp 3\, Stavugnen (orientering.se)
URL:https://vallentunaosseby.se/event/ranas-sprint-cup-etapp-3-stavugnen/
END:VEVENT
END:VCALENDAR