BEGIN:VCALENDAR
VERSION:2.0
PRODID:-//vallentunaosseby.se - ECPv6.15.20//NONSGML v1.0//EN
CALSCALE:GREGORIAN
METHOD:PUBLISH
X-WR-CALNAME:vallentunaosseby.se
X-ORIGINAL-URL:https://vallentunaosseby.se
X-WR-CALDESC:Händelser för vallentunaosseby.se
REFRESH-INTERVAL;VALUE=DURATION:PT1H
X-Robots-Tag:noindex
X-PUBLISHED-TTL:PT1H
BEGIN:VTIMEZONE
TZID:Europe/Stockholm
BEGIN:DAYLIGHT
TZOFFSETFROM:+0100
TZOFFSETTO:+0200
TZNAME:CEST
DTSTART:20230326T010000
END:DAYLIGHT
BEGIN:STANDARD
TZOFFSETFROM:+0200
TZOFFSETTO:+0100
TZNAME:CET
DTSTART:20231029T010000
END:STANDARD
BEGIN:DAYLIGHT
TZOFFSETFROM:+0100
TZOFFSETTO:+0200
TZNAME:CEST
DTSTART:20240331T010000
END:DAYLIGHT
BEGIN:STANDARD
TZOFFSETFROM:+0200
TZOFFSETTO:+0100
TZNAME:CET
DTSTART:20241027T010000
END:STANDARD
BEGIN:DAYLIGHT
TZOFFSETFROM:+0100
TZOFFSETTO:+0200
TZNAME:CEST
DTSTART:20250330T010000
END:DAYLIGHT
BEGIN:STANDARD
TZOFFSETFROM:+0200
TZOFFSETTO:+0100
TZNAME:CET
DTSTART:20251026T010000
END:STANDARD
END:VTIMEZONE
BEGIN:VEVENT
DTSTART;TZID=Europe/Stockholm:20240901T100000
DTEND;TZID=Europe/Stockholm:20240901T130000
DTSTAMP:20260421T011505
CREATED:20240811T191318Z
LAST-MODIFIED:20240811T191328Z
UID:2986-1725184800-1725195600@vallentunaosseby.se
SUMMARY:Veteran-SM\, lång
DESCRIPTION:Arrangör: OK Rodhen \n\n\n\nPlats: Östhammar \n\n\n\nEventor – Tävlingsinformation: Veteran-SM\, lång (orientering.se)
URL:https://vallentunaosseby.se/event/veteran-sm-lang/
END:VEVENT
BEGIN:VEVENT
DTSTART;TZID=Europe/Stockholm:20240903T180000
DTEND;TZID=Europe/Stockholm:20240903T193000
DTSTAMP:20260421T011505
CREATED:20240811T203638Z
LAST-MODIFIED:20240901T151608Z
UID:3031-1725386400-1725391800@vallentunaosseby.se
SUMMARY:Ungdomsträning med träning för alla
DESCRIPTION:Plats: Skavlöten
URL:https://vallentunaosseby.se/event/ungdomstraning-med-traning-for-alla-35/
END:VEVENT
BEGIN:VEVENT
DTSTART;TZID=Europe/Stockholm:20240905T180000
DTEND;TZID=Europe/Stockholm:20240905T200000
DTSTAMP:20260421T011505
CREATED:20240901T185257Z
LAST-MODIFIED:20240901T185257Z
UID:3072-1725559200-1725566400@vallentunaosseby.se
SUMMARY:Torsdagsträning
DESCRIPTION:Samling på vägen ner till Löt återvinningsstation strax söder om Roslagsstoppet\, https://www.hitta.se/kartan?userGeo=1&s=3f0463cd. Kolla var pricken sitter\, adressen är bara ungefär. \n\n\n\nFri start mellan 18:00 och 19:00. \n\n\n\nVälkomna!
URL:https://vallentunaosseby.se/event/torsdagstraning-4/
END:VEVENT
BEGIN:VEVENT
DTSTART;TZID=Europe/Stockholm:20240907T100000
DTEND;TZID=Europe/Stockholm:20240907T120000
DTSTAMP:20260421T011505
CREATED:20240811T193456Z
LAST-MODIFIED:20240811T193815Z
UID:2994-1725703200-1725710400@vallentunaosseby.se
SUMMARY:Järfälla OK\, lång
DESCRIPTION:Långdistans \n\n\n\nPlats: Barkarby \n\n\n\nEventor – Tävlingsinformation: Järfälla OK\, långdistans (orientering.se)
URL:https://vallentunaosseby.se/event/jarfalla-ok/
END:VEVENT
BEGIN:VEVENT
DTSTART;TZID=Europe/Stockholm:20240908T100000
DTEND;TZID=Europe/Stockholm:20240908T120000
DTSTAMP:20260421T011505
CREATED:20240811T193646Z
LAST-MODIFIED:20240811T193719Z
UID:2996-1725789600-1725796800@vallentunaosseby.se
SUMMARY:Järfälla OK\, medel
DESCRIPTION:Medeldistans \n\n\n\nPlats: Barkarby \n\n\n\nEventor – Tävlingsinformation: Järfälla OK\, medeldistans (orientering.se)
URL:https://vallentunaosseby.se/event/jarfalla-ok-medel/
END:VEVENT
BEGIN:VEVENT
DTSTART;TZID=Europe/Stockholm:20240910T180000
DTEND;TZID=Europe/Stockholm:20240910T193000
DTSTAMP:20260421T011505
CREATED:20240811T203736Z
LAST-MODIFIED:20240901T151656Z
UID:3033-1725991200-1725996600@vallentunaosseby.se
SUMMARY:Ungdomsträning med träning för alla
DESCRIPTION:Plats: Vallentuna IP vid grillplatsen sydost om Ishallen
URL:https://vallentunaosseby.se/event/ungdomstraning-med-traning-for-alla-36/
END:VEVENT
BEGIN:VEVENT
DTSTART;TZID=Europe/Stockholm:20240912T180000
DTEND;TZID=Europe/Stockholm:20240912T190000
DTSTAMP:20260421T011505
CREATED:20240910T054148Z
LAST-MODIFIED:20240910T054148Z
UID:3073-1726164000-1726167600@vallentunaosseby.se
SUMMARY:Torsdagsträning 12/9
DESCRIPTION:Träningen är vid Törnskogen södra parkeringen. \n\n\n\n3 Banor finns \, ca 3\, 4 och 6 km. Naturpasskontroller används \n\n\n\nBanläggare Claes Landqvist
URL:https://vallentunaosseby.se/event/torsdagstraning-12-9/
END:VEVENT
BEGIN:VEVENT
DTSTART;TZID=Europe/Stockholm:20240913T200000
DTEND;TZID=Europe/Stockholm:20240913T223000
DTSTAMP:20260421T011505
CREATED:20240811T194048Z
LAST-MODIFIED:20240811T194059Z
UID:3002-1726257600-1726266600@vallentunaosseby.se
SUMMARY:DM-natt
DESCRIPTION:Arrangör: Länna IF \n\n\n\nPlats: Länna \n\n\n\nEventor – Tävlingsinformation: DM\, natt\, Uppland (orientering.se)
URL:https://vallentunaosseby.se/event/dm-natt-2/
END:VEVENT
BEGIN:VEVENT
DTSTART;TZID=Europe/Stockholm:20240915T100000
DTEND;TZID=Europe/Stockholm:20240915T120000
DTSTAMP:20260421T011505
CREATED:20240811T194248Z
LAST-MODIFIED:20240811T203215Z
UID:3004-1726394400-1726401600@vallentunaosseby.se
SUMMARY:DM-lång
DESCRIPTION:Arrangör: Sigtuna OK \n\n\n\nPlats: Sigtuna \n\n\n\nUpplandscupen deltävling 2. \n\n\n\nEventor – Tävlingsinformation: DM\, lång\, Uppland (orientering.se)
URL:https://vallentunaosseby.se/event/dm-lang-2/
END:VEVENT
BEGIN:VEVENT
DTSTART;TZID=Europe/Stockholm:20240916T190000
DTEND;TZID=Europe/Stockholm:20240916T203000
DTSTAMP:20260421T011505
CREATED:20240811T183556Z
LAST-MODIFIED:20240811T183629Z
UID:2964-1726513200-1726518600@vallentunaosseby.se
SUMMARY:Styrelsemöte
DESCRIPTION:Klubbstugan
URL:https://vallentunaosseby.se/event/styrelsemote-17/
END:VEVENT
BEGIN:VEVENT
DTSTART;TZID=Europe/Stockholm:20240917T180000
DTEND;TZID=Europe/Stockholm:20240917T193000
DTSTAMP:20260421T011505
CREATED:20240811T203841Z
LAST-MODIFIED:20240901T151740Z
UID:3035-1726596000-1726601400@vallentunaosseby.se
SUMMARY:Ungdomsträning med träning för alla
DESCRIPTION:Plats: Klubbstugan\, Össeby IP
URL:https://vallentunaosseby.se/event/ungdomstraning-med-traning-for-alla-37/
END:VEVENT
BEGIN:VEVENT
DTSTART;TZID=Europe/Stockholm:20240919T170000
DTEND;TZID=Europe/Stockholm:20240919T190000
DTSTAMP:20260421T011505
CREATED:20240913T182849Z
LAST-MODIFIED:20240913T182849Z
UID:3081-1726765200-1726772400@vallentunaosseby.se
SUMMARY:Torsdagsträning
DESCRIPTION:Torsdagsträning vid Lappdal\, samling vid fågelskådarparkeringen bredvid Lappdal 8: https://www.hitta.se/kartan?userGeo=1&s=dc0623d4 \n\n\n\nDet går att starta redan vid 17:00 och det sitter Naturpasskontroller på kontrollpunkterna.
URL:https://vallentunaosseby.se/event/torsdagstraning-5/
END:VEVENT
BEGIN:VEVENT
DTSTART;TZID=Europe/Stockholm:20240921T100000
DTEND;TZID=Europe/Stockholm:20240921T120000
DTSTAMP:20260421T011505
CREATED:20240811T194659Z
LAST-MODIFIED:20240811T203117Z
UID:3006-1726912800-1726920000@vallentunaosseby.se
SUMMARY:OK Linné\, medel
DESCRIPTION:Medeldistans \n\n\n\nUpplandscupen deltävling 3. (Final) \n\n\n\nPlats: Skogs-Tibble \n\n\n\nEventor – Tävlingsinformation: Linnédubbeln\, medel (orientering.se)
URL:https://vallentunaosseby.se/event/ok-linne-medel/
END:VEVENT
BEGIN:VEVENT
DTSTART;TZID=Europe/Stockholm:20240922T100000
DTEND;TZID=Europe/Stockholm:20240922T120000
DTSTAMP:20260421T011505
CREATED:20240811T194933Z
LAST-MODIFIED:20240811T194943Z
UID:3008-1726999200-1727006400@vallentunaosseby.se
SUMMARY:OK Linné\, lång
DESCRIPTION:Långdistans \n\n\n\nPlats: Skogs-Tibble \n\n\n\nEventor – Tävlingsinformation: Linnédubbeln\, lång (orientering.se)
URL:https://vallentunaosseby.se/event/ok-linne-lang/
END:VEVENT
BEGIN:VEVENT
DTSTART;TZID=Europe/Stockholm:20240924T180000
DTEND;TZID=Europe/Stockholm:20240924T193000
DTSTAMP:20260421T011505
CREATED:20240811T203941Z
LAST-MODIFIED:20240901T151759Z
UID:3037-1727200800-1727206200@vallentunaosseby.se
SUMMARY:Ungdomsträning med träning för alla
DESCRIPTION:Plats: Klubbstugan\, Össeby IP
URL:https://vallentunaosseby.se/event/ungdomstraning-med-traning-for-alla-38/
END:VEVENT
BEGIN:VEVENT
DTSTART;TZID=Europe/Stockholm:20240926T180000
DTEND;TZID=Europe/Stockholm:20240926T193000
DTSTAMP:20260421T011505
CREATED:20240922T180938Z
LAST-MODIFIED:20240926T153432Z
UID:3083-1727373600-1727379000@vallentunaosseby.se
SUMMARY:Ingen träning
DESCRIPTION:Löpträning eller natt-OL \n\n\n\nPlats: Klubbstugan\, Össeby IP
URL:https://vallentunaosseby.se/event/torsdagstraning-6/
END:VEVENT
BEGIN:VEVENT
DTSTART;TZID=Europe/Stockholm:20240929T100000
DTEND;TZID=Europe/Stockholm:20240929T120000
DTSTAMP:20260421T011505
CREATED:20240811T195441Z
LAST-MODIFIED:20240811T195451Z
UID:3010-1727604000-1727611200@vallentunaosseby.se
SUMMARY:Täby OK\, medel
DESCRIPTION:Medeldistans \n\n\n\nPlats: Rösjöbadet \n\n\n\nEventor – Tävlingsinformation: Täby OK\, medeldistans (orientering.se)
URL:https://vallentunaosseby.se/event/taby-ok-medel/
END:VEVENT
END:VCALENDAR