BEGIN:VCALENDAR
VERSION:2.0
PRODID:-//vallentunaosseby.se - ECPv6.15.20//NONSGML v1.0//EN
CALSCALE:GREGORIAN
METHOD:PUBLISH
X-WR-CALNAME:vallentunaosseby.se
X-ORIGINAL-URL:https://vallentunaosseby.se
X-WR-CALDESC:Händelser för vallentunaosseby.se
REFRESH-INTERVAL;VALUE=DURATION:PT1H
X-Robots-Tag:noindex
X-PUBLISHED-TTL:PT1H
BEGIN:VTIMEZONE
TZID:Europe/Stockholm
BEGIN:DAYLIGHT
TZOFFSETFROM:+0100
TZOFFSETTO:+0200
TZNAME:CEST
DTSTART:20230326T010000
END:DAYLIGHT
BEGIN:STANDARD
TZOFFSETFROM:+0200
TZOFFSETTO:+0100
TZNAME:CET
DTSTART:20231029T010000
END:STANDARD
BEGIN:DAYLIGHT
TZOFFSETFROM:+0100
TZOFFSETTO:+0200
TZNAME:CEST
DTSTART:20240331T010000
END:DAYLIGHT
BEGIN:STANDARD
TZOFFSETFROM:+0200
TZOFFSETTO:+0100
TZNAME:CET
DTSTART:20241027T010000
END:STANDARD
BEGIN:DAYLIGHT
TZOFFSETFROM:+0100
TZOFFSETTO:+0200
TZNAME:CEST
DTSTART:20250330T010000
END:DAYLIGHT
BEGIN:STANDARD
TZOFFSETFROM:+0200
TZOFFSETTO:+0100
TZNAME:CET
DTSTART:20251026T010000
END:STANDARD
END:VTIMEZONE
BEGIN:VEVENT
DTSTART;TZID=Europe/Stockholm:20241001T180000
DTEND;TZID=Europe/Stockholm:20241001T193000
DTSTAMP:20260420T221302
CREATED:20240811T204045Z
LAST-MODIFIED:20240901T151817Z
UID:3039-1727805600-1727811000@vallentunaosseby.se
SUMMARY:Ungdomsträning med träning för alla
DESCRIPTION:Plats: Klubbstugan\, Össeby IP
URL:https://vallentunaosseby.se/event/ungdomstraning-med-traning-for-alla-39/
END:VEVENT
BEGIN:VEVENT
DTSTART;TZID=Europe/Stockholm:20241003T180000
DTEND;TZID=Europe/Stockholm:20241003T193000
DTSTAMP:20260420T221302
CREATED:20240922T181025Z
LAST-MODIFIED:20240922T181426Z
UID:3085-1727978400-1727983800@vallentunaosseby.se
SUMMARY:Torsdagsträning
DESCRIPTION:Löpträning eller natt-OL \n\n\n\nPlats: Klubbstugan\, Össeby IP
URL:https://vallentunaosseby.se/event/torsdagstraning-7/
END:VEVENT
BEGIN:VEVENT
DTSTART;TZID=Europe/Stockholm:20241005T100000
DTEND;TZID=Europe/Stockholm:20241005T140000
DTSTAMP:20260420T221302
CREATED:20240811T200947Z
LAST-MODIFIED:20240811T201034Z
UID:3012-1728122400-1728136800@vallentunaosseby.se
SUMMARY:Österåkerskavlen och medeldistans
DESCRIPTION:Arrangör: OK Österåker \n\n\n\nPlats: Össeby IP \n\n\n\nEventor – Tävlingsinformation: Österåkerskavlen (orientering.se) \n\n\n\nEventor – Tävlingsinformation: OK Österåker\, medeldistans (orientering.se)
URL:https://vallentunaosseby.se/event/osterakerskavlen-och-medeldistans/
END:VEVENT
BEGIN:VEVENT
DTSTART;TZID=Europe/Stockholm:20241008T180000
DTEND;TZID=Europe/Stockholm:20241008T193000
DTSTAMP:20260420T221302
CREATED:20240811T204258Z
LAST-MODIFIED:20240925T133108Z
UID:3041-1728410400-1728415800@vallentunaosseby.se
SUMMARY:Ungdomsträning med träning för alla
DESCRIPTION:Plats: Klubbstugan\, Össeby IP
URL:https://vallentunaosseby.se/event/ungdomstraning-med-traning-for-alla-40/
END:VEVENT
BEGIN:VEVENT
DTSTART;TZID=Europe/Stockholm:20241010T180000
DTEND;TZID=Europe/Stockholm:20241010T193000
DTSTAMP:20260420T221302
CREATED:20240922T181140Z
LAST-MODIFIED:20240922T181452Z
UID:3087-1728583200-1728588600@vallentunaosseby.se
SUMMARY:Torsdagsträning
DESCRIPTION:Löpträning eller natt-OL \n\n\n\nPlats: Klubbstugan\, Össeby IP
URL:https://vallentunaosseby.se/event/torsdagstraning-8/
END:VEVENT
BEGIN:VEVENT
DTSTART;TZID=Europe/Stockholm:20241012T080000
DTEND;TZID=Europe/Stockholm:20241012T170000
DTSTAMP:20260420T221302
CREATED:20240811T201209Z
LAST-MODIFIED:20241009T081542Z
UID:3014-1728720000-1728752400@vallentunaosseby.se
SUMMARY:25-manna\, stafett
DESCRIPTION:Plats: Rudan\, Handen \n\n\n\nEventor – Tävlingsinformation: 25manna (orientering.se) \n\n\n\nSe även nyhet på hemsidan: 25manna 2024 – vallentunaosseby.se
URL:https://vallentunaosseby.se/event/25-manna-2/
END:VEVENT
BEGIN:VEVENT
DTSTART;TZID=Europe/Stockholm:20241013T100000
DTEND;TZID=Europe/Stockholm:20241013T120000
DTSTAMP:20260420T221302
CREATED:20240811T201426Z
LAST-MODIFIED:20240811T201436Z
UID:3016-1728813600-1728820800@vallentunaosseby.se
SUMMARY:25-manna\, medel
DESCRIPTION:Medeldistans \n\n\n\nPlats: Rudan\, Handen \n\n\n\nEventor – Tävlingsinformation: 25mannamedeln (orientering.se)
URL:https://vallentunaosseby.se/event/25-manna-medel/
END:VEVENT
BEGIN:VEVENT
DTSTART;TZID=Europe/Stockholm:20241014T190000
DTEND;TZID=Europe/Stockholm:20241014T203000
DTSTAMP:20260420T221302
CREATED:20240811T183725Z
LAST-MODIFIED:20240811T183800Z
UID:2967-1728932400-1728937800@vallentunaosseby.se
SUMMARY:Styrelsemöte
DESCRIPTION:Klubbstugan
URL:https://vallentunaosseby.se/event/styrelsemote-18/
END:VEVENT
BEGIN:VEVENT
DTSTART;TZID=Europe/Stockholm:20241015T180000
DTEND;TZID=Europe/Stockholm:20241015T193000
DTSTAMP:20260420T221302
CREATED:20240811T204429Z
LAST-MODIFIED:20240925T133215Z
UID:3044-1729015200-1729020600@vallentunaosseby.se
SUMMARY:Ungdomsträning med träning för alla
DESCRIPTION:Plats: Rosendalsskolan Norra (Fd Hammarbacksskolan)
URL:https://vallentunaosseby.se/event/ungdomstraning-med-traning-for-alla-41/
END:VEVENT
BEGIN:VEVENT
DTSTART;TZID=Europe/Stockholm:20241017T180000
DTEND;TZID=Europe/Stockholm:20241017T193000
DTSTAMP:20260420T221302
CREATED:20240922T181540Z
LAST-MODIFIED:20240922T181541Z
UID:3093-1729188000-1729193400@vallentunaosseby.se
SUMMARY:Torsdagsträning
DESCRIPTION:Löpträning eller natt-OL \n\n\n\nPlats: Klubbstugan\, Össeby IP
URL:https://vallentunaosseby.se/event/torsdagstraning-9/
END:VEVENT
BEGIN:VEVENT
DTSTART;TZID=Europe/Stockholm:20241019T060000
DTEND;TZID=Europe/Stockholm:20241020T180000
DTSTAMP:20260420T221302
CREATED:20240811T201843Z
LAST-MODIFIED:20240811T201957Z
UID:3019-1729317600-1729447200@vallentunaosseby.se
SUMMARY:Daladubbeln
DESCRIPTION:Stor ungdomstävling i Falun. Vi åker med stor buss och övernattar i Falun. \n\n\n\nLördag: Eventor – Tävlingsinformation: Daladubbeln\, stafett (orientering.se) \n\n\n\nSöndag: Eventor – Tävlingsinformation: Daladubbeln\, patrull (orientering.se)
URL:https://vallentunaosseby.se/event/daladubbeln/
END:VEVENT
BEGIN:VEVENT
DTSTART;TZID=Europe/Stockholm:20241022T180000
DTEND;TZID=Europe/Stockholm:20241022T193000
DTSTAMP:20260420T221302
CREATED:20240811T204606Z
LAST-MODIFIED:20240925T133256Z
UID:3046-1729620000-1729625400@vallentunaosseby.se
SUMMARY:Ungdomsträning med träning för alla
DESCRIPTION:Plats: Bällstabergsskolan
URL:https://vallentunaosseby.se/event/ungdomstraning-med-traning-for-alla-42/
END:VEVENT
BEGIN:VEVENT
DTSTART;TZID=Europe/Stockholm:20241024T180000
DTEND;TZID=Europe/Stockholm:20241024T193000
DTSTAMP:20260420T221302
CREATED:20240922T181625Z
LAST-MODIFIED:20240922T181635Z
UID:3095-1729792800-1729798200@vallentunaosseby.se
SUMMARY:Torsdagsträning
DESCRIPTION:Löpträning eller natt-OL \n\n\n\nPlats: Klubbstugan\, Össeby IP
URL:https://vallentunaosseby.se/event/torsdagstraning-10/
END:VEVENT
BEGIN:VEVENT
DTSTART;TZID=Europe/Stockholm:20241027T100000
DTEND;TZID=Europe/Stockholm:20241027T120000
DTSTAMP:20260420T221302
CREATED:20240811T202708Z
LAST-MODIFIED:20240811T202719Z
UID:3026-1730023200-1730030400@vallentunaosseby.se
SUMMARY:OK Enen\, medel
DESCRIPTION:Medeldistans \n\n\n\nPlats:Eventor – Tävlingsinformation: Oktoberracet (orientering.se)
URL:https://vallentunaosseby.se/event/ok-enen-medel/
END:VEVENT
BEGIN:VEVENT
DTSTART;TZID=Europe/Stockholm:20241031T180000
DTEND;TZID=Europe/Stockholm:20241031T193000
DTSTAMP:20260420T221302
CREATED:20240922T181704Z
LAST-MODIFIED:20240922T181711Z
UID:3097-1730397600-1730403000@vallentunaosseby.se
SUMMARY:Torsdagsträning
DESCRIPTION:Löpträning eller natt-OL \n\n\n\nPlats: Klubbstugan\, Össeby IP
URL:https://vallentunaosseby.se/event/torsdagstraning-11/
END:VEVENT
END:VCALENDAR