BEGIN:VCALENDAR
VERSION:2.0
PRODID:-//vallentunaosseby.se - ECPv6.15.20//NONSGML v1.0//EN
CALSCALE:GREGORIAN
METHOD:PUBLISH
X-ORIGINAL-URL:https://vallentunaosseby.se
X-WR-CALDESC:Händelser för vallentunaosseby.se
REFRESH-INTERVAL;VALUE=DURATION:PT1H
X-Robots-Tag:noindex
X-PUBLISHED-TTL:PT1H
BEGIN:VTIMEZONE
TZID:Europe/Stockholm
BEGIN:DAYLIGHT
TZOFFSETFROM:+0100
TZOFFSETTO:+0200
TZNAME:CEST
DTSTART:20230326T010000
END:DAYLIGHT
BEGIN:STANDARD
TZOFFSETFROM:+0200
TZOFFSETTO:+0100
TZNAME:CET
DTSTART:20231029T010000
END:STANDARD
BEGIN:DAYLIGHT
TZOFFSETFROM:+0100
TZOFFSETTO:+0200
TZNAME:CEST
DTSTART:20240331T010000
END:DAYLIGHT
BEGIN:STANDARD
TZOFFSETFROM:+0200
TZOFFSETTO:+0100
TZNAME:CET
DTSTART:20241027T010000
END:STANDARD
BEGIN:DAYLIGHT
TZOFFSETFROM:+0100
TZOFFSETTO:+0200
TZNAME:CEST
DTSTART:20250330T010000
END:DAYLIGHT
BEGIN:STANDARD
TZOFFSETFROM:+0200
TZOFFSETTO:+0100
TZNAME:CET
DTSTART:20251026T010000
END:STANDARD
END:VTIMEZONE
BEGIN:VEVENT
DTSTART;TZID=Europe/Stockholm:20241102T170000
DTEND;TZID=Europe/Stockholm:20241102T190000
DTSTAMP:20260420T203218
CREATED:20240811T202240Z
LAST-MODIFIED:20240811T202522Z
UID:3023-1730566800-1730574000@vallentunaosseby.se
SUMMARY:Rodhenloppet
DESCRIPTION:Arrangör: Rasbo IK \n\n\n\nPlats: Eriksberg (MTBO) + Vattholma (OL) \n\n\n\nEventor – Tävlingsinformation: Rodhenloppet (orientering.se) \n\n\n\nEventor – Tävlingsinformation: MTBO\, Rodhenloppet (orientering.se)
URL:https://vallentunaosseby.se/event/rodhenloppet-2/
END:VEVENT
BEGIN:VEVENT
DTSTART;TZID=Europe/Stockholm:20241105T180000
DTEND;TZID=Europe/Stockholm:20241105T193000
DTSTAMP:20260420T203218
CREATED:20240811T204713Z
LAST-MODIFIED:20241103T151519Z
UID:3048-1730829600-1730835000@vallentunaosseby.se
SUMMARY:Ungdomsträning med träning för alla
DESCRIPTION:Halloween-träning. Kom utklädd om du vill 🙂 \n\n\n\nDet blir korvgrillning med mera. \n\n\n\nPlats: Klubbstugan
URL:https://vallentunaosseby.se/event/ungdomstraning-med-traning-for-alla-43/
END:VEVENT
BEGIN:VEVENT
DTSTART;TZID=Europe/Stockholm:20241107T180000
DTEND;TZID=Europe/Stockholm:20241107T210000
DTSTAMP:20260420T203218
CREATED:20241101T190509Z
LAST-MODIFIED:20241101T190509Z
UID:3161-1731002400-1731013200@vallentunaosseby.se
SUMMARY:Nattråttan etapp 1
DESCRIPTION:https://eventor.orientering.se/Events/Show/51770
URL:https://vallentunaosseby.se/event/nattrattan-etapp-1/
END:VEVENT
BEGIN:VEVENT
DTSTART;TZID=Europe/Stockholm:20241112T180000
DTEND;TZID=Europe/Stockholm:20241112T193000
DTSTAMP:20260420T203218
CREATED:20240811T204810Z
LAST-MODIFIED:20241103T180439Z
UID:3050-1731434400-1731439800@vallentunaosseby.se
SUMMARY:Ungdomsträning med träning för alla
DESCRIPTION:Plats: Hagaskolan
URL:https://vallentunaosseby.se/event/ungdomstraning-med-traning-for-alla-44/
END:VEVENT
BEGIN:VEVENT
DTSTART;TZID=Europe/Stockholm:20241114T180000
DTEND;TZID=Europe/Stockholm:20241114T193000
DTSTAMP:20260420T203218
CREATED:20240922T181844Z
LAST-MODIFIED:20240922T181845Z
UID:3101-1731607200-1731612600@vallentunaosseby.se
SUMMARY:Torsdagsträning
DESCRIPTION:Löpträning eller natt-OL \n\n\n\nPlats: Klubbstugan\, Össeby IP
URL:https://vallentunaosseby.se/event/torsdagstraning-13/
END:VEVENT
BEGIN:VEVENT
DTSTART;TZID=Europe/Stockholm:20241116T100000
DTEND;TZID=Europe/Stockholm:20241116T120000
DTSTAMP:20260420T203218
CREATED:20240818T205756Z
LAST-MODIFIED:20240818T205757Z
UID:3066-1731751200-1731758400@vallentunaosseby.se
SUMMARY:Skinkloppet
DESCRIPTION:
URL:https://vallentunaosseby.se/event/skinkloppet-2/
END:VEVENT
BEGIN:VEVENT
DTSTART;TZID=Europe/Stockholm:20241116T180000
DTEND;TZID=Europe/Stockholm:20241116T210000
DTSTAMP:20260420T203218
CREATED:20241014T200426Z
LAST-MODIFIED:20241101T184203Z
UID:3134-1731780000-1731790800@vallentunaosseby.se
SUMMARY:Årsfesten
DESCRIPTION:Välkomna till årsfesten 2024! \n\n\n\nOmfattning: Middag(buffe´) tävlingar lotteriTid: Lördag 16 nov kl 18.00Plats : Klubbstugan Össeby IPPris: Medlemmar 200:- för H/D21 och äldre. H/D 20 och yngre gratis.Anmälan: Med SWISH till 123 421 09 02 (Vallentuna-Össeby OL) och SMS till 070 46 123 97 (Christer Arksand) senast fredag 8 november.Övrigt: Medför penna! \n\n\n\nhttps://vallentunaosseby.se/wp-content/uploads/2024/10/VOOL-arsfest-2024.pdf
URL:https://vallentunaosseby.se/event/arsfesten/
END:VEVENT
BEGIN:VEVENT
DTSTART;TZID=Europe/Stockholm:20241118T190000
DTEND;TZID=Europe/Stockholm:20241118T203000
DTSTAMP:20260420T203218
CREATED:20240811T183855Z
LAST-MODIFIED:20241106T075730Z
UID:2969-1731956400-1731961800@vallentunaosseby.se
SUMMARY:Styrelsemöte
DESCRIPTION:Klubbstugan
URL:https://vallentunaosseby.se/event/styrelsemote-19/
END:VEVENT
BEGIN:VEVENT
DTSTART;TZID=Europe/Stockholm:20241119T180000
DTEND;TZID=Europe/Stockholm:20241119T193000
DTSTAMP:20260420T203218
CREATED:20240811T205059Z
LAST-MODIFIED:20241103T180638Z
UID:3052-1732039200-1732044600@vallentunaosseby.se
SUMMARY:Ungdomsträning med träning för alla
DESCRIPTION:Plats: Hagaskolan
URL:https://vallentunaosseby.se/event/ungdomstraning-med-traning-for-alla-45/
END:VEVENT
BEGIN:VEVENT
DTSTART;TZID=Europe/Stockholm:20241121T173000
DTEND;TZID=Europe/Stockholm:20241121T190000
DTSTAMP:20260420T203218
CREATED:20241106T172919Z
LAST-MODIFIED:20241110T173924Z
UID:3189-1732210200-1732215600@vallentunaosseby.se
SUMMARY:Ungdomsträning Yoump
DESCRIPTION:Trampolinträning för ungdomar och föräldrar. \n\n\n\nVi har samling i receptionen redan 17.40 för att vi ska hinna byta om och för att vi inte ska missa något av vårt pass som är mellan 18.00-19.00.Tag med eget hänglås\, så ni kan låsa in era grejer.Vi har bokat 30 st platser och först till kvarn gäller. \n\n\n\nAnmälan görs via mail till vallentuna.osseby.ungdom@gmail.com
URL:https://vallentunaosseby.se/event/ungdomstraning-yoump/
END:VEVENT
BEGIN:VEVENT
DTSTART;TZID=Europe/Stockholm:20241123T090000
DTEND;TZID=Europe/Stockholm:20241123T143000
DTSTAMP:20260420T203218
CREATED:20241010T120659Z
LAST-MODIFIED:20241010T120659Z
UID:3131-1732352400-1732372200@vallentunaosseby.se
SUMMARY:UOF ting 2024
DESCRIPTION:Upplands orienteringsförbunds årliga planeringskonferens. \n\n\n\nPlats: IFU Arena\, Uppsala \n\n\n\nProgram: Planeringskonferens – Orienteringsförbundet \n\n\n\nAnmälan: Eventor – Aktivitet: Planeringskonferens 2024 (orientering.se)
URL:https://vallentunaosseby.se/event/uof-ting-2024/
END:VEVENT
BEGIN:VEVENT
DTSTART;TZID=Europe/Stockholm:20241126T180000
DTEND;TZID=Europe/Stockholm:20241126T193000
DTSTAMP:20260420T203218
CREATED:20240811T205208Z
LAST-MODIFIED:20240811T205218Z
UID:3054-1732644000-1732649400@vallentunaosseby.se
SUMMARY:Ungdomsträning med träning för alla
DESCRIPTION:
URL:https://vallentunaosseby.se/event/ungdomstraning-med-traning-for-alla-46/
END:VEVENT
BEGIN:VEVENT
DTSTART;TZID=Europe/Stockholm:20241128T180000
DTEND;TZID=Europe/Stockholm:20241128T210000
DTSTAMP:20260420T203218
CREATED:20241101T192929Z
LAST-MODIFIED:20241123T175624Z
UID:3165-1732816800-1732827600@vallentunaosseby.se
SUMMARY:UBN nattcup 1
DESCRIPTION:Uppland by Night    Lunsen – Lunsen – Lunsen \n\n\n\nEventor – Tävlingsinformation: UBN Nattcup #1
URL:https://vallentunaosseby.se/event/uof-nattcup-1/
END:VEVENT
END:VCALENDAR