BEGIN:VCALENDAR
VERSION:2.0
PRODID:-//vallentunaosseby.se - ECPv6.15.20//NONSGML v1.0//EN
CALSCALE:GREGORIAN
METHOD:PUBLISH
X-WR-CALNAME:vallentunaosseby.se
X-ORIGINAL-URL:https://vallentunaosseby.se
X-WR-CALDESC:Händelser för vallentunaosseby.se
REFRESH-INTERVAL;VALUE=DURATION:PT1H
X-Robots-Tag:noindex
X-PUBLISHED-TTL:PT1H
BEGIN:VTIMEZONE
TZID:Europe/Stockholm
BEGIN:DAYLIGHT
TZOFFSETFROM:+0100
TZOFFSETTO:+0200
TZNAME:CEST
DTSTART:20230326T010000
END:DAYLIGHT
BEGIN:STANDARD
TZOFFSETFROM:+0200
TZOFFSETTO:+0100
TZNAME:CET
DTSTART:20231029T010000
END:STANDARD
BEGIN:DAYLIGHT
TZOFFSETFROM:+0100
TZOFFSETTO:+0200
TZNAME:CEST
DTSTART:20240331T010000
END:DAYLIGHT
BEGIN:STANDARD
TZOFFSETFROM:+0200
TZOFFSETTO:+0100
TZNAME:CET
DTSTART:20241027T010000
END:STANDARD
BEGIN:DAYLIGHT
TZOFFSETFROM:+0100
TZOFFSETTO:+0200
TZNAME:CEST
DTSTART:20250330T010000
END:DAYLIGHT
BEGIN:STANDARD
TZOFFSETFROM:+0200
TZOFFSETTO:+0100
TZNAME:CET
DTSTART:20251026T010000
END:STANDARD
END:VTIMEZONE
BEGIN:VEVENT
DTSTART;TZID=Europe/Stockholm:20241203T180000
DTEND;TZID=Europe/Stockholm:20241203T193000
DTSTAMP:20260420T185534
CREATED:20240811T205256Z
LAST-MODIFIED:20240811T205306Z
UID:3056-1733248800-1733254200@vallentunaosseby.se
SUMMARY:Ungdomsträning med träning för alla
DESCRIPTION:
URL:https://vallentunaosseby.se/event/ungdomstraning-med-traning-for-alla-47/
END:VEVENT
BEGIN:VEVENT
DTSTART;TZID=Europe/Stockholm:20241205T180000
DTEND;TZID=Europe/Stockholm:20241205T210000
DTSTAMP:20260420T185534
CREATED:20241101T191154Z
LAST-MODIFIED:20241117T161928Z
UID:3162-1733421600-1733432400@vallentunaosseby.se
SUMMARY:Nattråttan etapp 2
DESCRIPTION:Nattråttan etapp 2 \n\n\n\nEventor – Tävlingsinformation: Nattråttan\, etapp 2
URL:https://vallentunaosseby.se/event/3162/
END:VEVENT
BEGIN:VEVENT
DTSTART;TZID=Europe/Stockholm:20241209T190000
DTEND;TZID=Europe/Stockholm:20241209T203000
DTSTAMP:20260420T185534
CREATED:20240811T184023Z
LAST-MODIFIED:20240811T184033Z
UID:2971-1733770800-1733776200@vallentunaosseby.se
SUMMARY:Styrelsemöte
DESCRIPTION:Klubbstugan
URL:https://vallentunaosseby.se/event/styrelsemote-20/
END:VEVENT
BEGIN:VEVENT
DTSTART;TZID=Europe/Stockholm:20241210T180000
DTEND;TZID=Europe/Stockholm:20241210T193000
DTSTAMP:20260420T185534
CREATED:20240811T205350Z
LAST-MODIFIED:20240811T205401Z
UID:3058-1733853600-1733859000@vallentunaosseby.se
SUMMARY:Ungdomsträning med träning för alla
DESCRIPTION:
URL:https://vallentunaosseby.se/event/ungdomstraning-med-traning-for-alla-48/
END:VEVENT
BEGIN:VEVENT
DTSTART;TZID=Europe/Stockholm:20241212T180000
DTEND;TZID=Europe/Stockholm:20241212T210000
DTSTAMP:20260420T185534
CREATED:20241101T193034Z
LAST-MODIFIED:20241103T181310Z
UID:3166-1734026400-1734037200@vallentunaosseby.se
SUMMARY:UOF nattcup 2
DESCRIPTION:Nåsten – Nåsten – Nåsten \n\n\n\nEventor – Tävlingsinformation: UBN Nattcup #2
URL:https://vallentunaosseby.se/event/uof-nattcup-2/
END:VEVENT
BEGIN:VEVENT
DTSTART;TZID=Europe/Stockholm:20241214T100000
DTEND;TZID=Europe/Stockholm:20241214T120000
DTSTAMP:20260420T185534
CREATED:20241110T175230Z
LAST-MODIFIED:20241123T175809Z
UID:3196-1734170400-1734177600@vallentunaosseby.se
SUMMARY:Tomtejakten
DESCRIPTION:Waxholms OK bjuder in till ”Tomtejakten” \n\n\n\nAnmälan på Eventor: Eventor – Tävlingsinformation: Tomtejakten
URL:https://vallentunaosseby.se/event/tomtejakten-3/
END:VEVENT
BEGIN:VEVENT
DTSTART;TZID=Europe/Stockholm:20241217T180000
DTEND;TZID=Europe/Stockholm:20241217T193000
DTSTAMP:20260420T185534
CREATED:20240811T205452Z
LAST-MODIFIED:20241215T181712Z
UID:3060-1734458400-1734463800@vallentunaosseby.se
SUMMARY:Ungdomsträning med julkul
DESCRIPTION:Julkul i Lindholmen på Lövhagsvägen 13 A \n\n\n\nDet blir julkulig träning med korvgrillning och pepparkakor med mera.
URL:https://vallentunaosseby.se/event/ungdomstraning-med-traning-for-alla-49/
END:VEVENT
BEGIN:VEVENT
DTSTART;TZID=Europe/Stockholm:20241219T180000
DTEND;TZID=Europe/Stockholm:20241219T193000
DTSTAMP:20260420T185534
CREATED:20240922T182244Z
LAST-MODIFIED:20241123T180032Z
UID:3111-1734631200-1734636600@vallentunaosseby.se
SUMMARY:Torsdagsträning Jul-avslutning med risgrynsgröt
DESCRIPTION:Löpträning eller natt-OL \n\n\n\nJulspecial ! \n\n\n\nPlats: Klubbstugan\, Össeby IP
URL:https://vallentunaosseby.se/event/torsdagstraning-18/
END:VEVENT
BEGIN:VEVENT
DTSTART;TZID=Europe/Stockholm:20241225T100000
DTEND;TZID=Europe/Stockholm:20241225T120000
DTSTAMP:20260420T185534
CREATED:20241211T075125Z
LAST-MODIFIED:20241221T201052Z
UID:3217-1735120800-1735128000@vallentunaosseby.se
SUMMARY:Juldags-OL
DESCRIPTION:Vid masten vid skjutbanorna vid Yesterdays. \n\n\n\nInbjudan \n\n\n\nPM \n\n\n\nJuldagsorientering 2024-12-25 \n\n\n\nPlats                             Karby industriområde (Yesterday) \n\n\n\n                                     Samling vid skärm strax innan Karby/Brottby  när du kommer från Vallentuna. \n\n\n\nAnmälan    Ingen föranmälan \n\n\n\nStart                              Fri start kl 10.00-10.30 \n\n\n\nBanor                           Bana 1  6\,1 km blå \n\n\n\n                                     Bana 2  3\,7 km blå \n\n\n\n                                     Bana 3  2\,4 km orange \n\n\n\nKarta                             Skala 1:10 000 för bana 1 och skala 1:7 500 för bana 2 och 3\, ekv.  4 m.  \n\n\n\nKontroller  Naturpasskontroller med röd rörstav (se prov vid starten) \n\n\n\n                                     Ingen tidtagning\, du tar själv tid om du vill \n\n\n\nFika                              Vi bjuder på kaffe\, julmust och pepparkakor \n\n\n\nKontakt      Peter 070-323 57 27 \n\n\n\nVÄLKOMNA!
URL:https://vallentunaosseby.se/event/juldags-ol-4/
END:VEVENT
END:VCALENDAR