BEGIN:VCALENDAR
VERSION:2.0
PRODID:-//vallentunaosseby.se - ECPv6.15.20//NONSGML v1.0//EN
CALSCALE:GREGORIAN
METHOD:PUBLISH
X-ORIGINAL-URL:https://vallentunaosseby.se
X-WR-CALDESC:Händelser för vallentunaosseby.se
REFRESH-INTERVAL;VALUE=DURATION:PT1H
X-Robots-Tag:noindex
X-PUBLISHED-TTL:PT1H
BEGIN:VTIMEZONE
TZID:Europe/Stockholm
BEGIN:DAYLIGHT
TZOFFSETFROM:+0100
TZOFFSETTO:+0200
TZNAME:CEST
DTSTART:20240331T010000
END:DAYLIGHT
BEGIN:STANDARD
TZOFFSETFROM:+0200
TZOFFSETTO:+0100
TZNAME:CET
DTSTART:20241027T010000
END:STANDARD
BEGIN:DAYLIGHT
TZOFFSETFROM:+0100
TZOFFSETTO:+0200
TZNAME:CEST
DTSTART:20250330T010000
END:DAYLIGHT
BEGIN:STANDARD
TZOFFSETFROM:+0200
TZOFFSETTO:+0100
TZNAME:CET
DTSTART:20251026T010000
END:STANDARD
BEGIN:DAYLIGHT
TZOFFSETFROM:+0100
TZOFFSETTO:+0200
TZNAME:CEST
DTSTART:20260329T010000
END:DAYLIGHT
BEGIN:STANDARD
TZOFFSETFROM:+0200
TZOFFSETTO:+0100
TZNAME:CET
DTSTART:20261025T010000
END:STANDARD
END:VTIMEZONE
BEGIN:VEVENT
DTSTART;TZID=Europe/Stockholm:20250107T180000
DTEND;TZID=Europe/Stockholm:20250107T193000
DTSTAMP:20260420T172233
CREATED:20241215T191145Z
LAST-MODIFIED:20241215T191154Z
UID:3245-1736272800-1736278200@vallentunaosseby.se
SUMMARY:Ungdomsträning med träning för alla
DESCRIPTION:Hagaskolan
URL:https://vallentunaosseby.se/event/ungdomstraning-med-traning-for-alla-50/
END:VEVENT
BEGIN:VEVENT
DTSTART;TZID=Europe/Stockholm:20250109T180000
DTEND;TZID=Europe/Stockholm:20250109T193000
DTSTAMP:20260420T172233
CREATED:20241215T192653Z
LAST-MODIFIED:20241215T192653Z
UID:3277-1736445600-1736451000@vallentunaosseby.se
SUMMARY:Torsdagsträning
DESCRIPTION:
URL:https://vallentunaosseby.se/event/torsdagstraning-12/
END:VEVENT
BEGIN:VEVENT
DTSTART;TZID=Europe/Stockholm:20250111T080000
DTEND;TZID=Europe/Stockholm:20250111T170000
DTSTAMP:20260420T172233
CREATED:20250105T105932Z
LAST-MODIFIED:20250105T105940Z
UID:3315-1736582400-1736614800@vallentunaosseby.se
SUMMARY:Skid-OL sprint
DESCRIPTION:https://eventor.orientering.se/Events/Show/52568
URL:https://vallentunaosseby.se/event/skid-ol-sprint/
END:VEVENT
BEGIN:VEVENT
DTSTART;TZID=Europe/Stockholm:20250111T094500
DTEND;TZID=Europe/Stockholm:20250111T110000
DTSTAMP:20260420T172233
CREATED:20241227T170636Z
LAST-MODIFIED:20241227T170636Z
UID:3314-1736588700-1736593200@vallentunaosseby.se
SUMMARY:Nyårslöpet
DESCRIPTION:https://eventor.orientering.se/Events/Show/52495
URL:https://vallentunaosseby.se/event/nyarslopet/
END:VEVENT
BEGIN:VEVENT
DTSTART;TZID=Europe/Stockholm:20250112T080000
DTEND;TZID=Europe/Stockholm:20250112T170000
DTSTAMP:20260420T172233
CREATED:20250105T110045Z
LAST-MODIFIED:20250105T110045Z
UID:3316-1736668800-1736701200@vallentunaosseby.se
SUMMARY:Skid-OL medel
DESCRIPTION:https://eventor.orientering.se/Events/Show/52569
URL:https://vallentunaosseby.se/event/skid-ol-medel/
END:VEVENT
BEGIN:VEVENT
DTSTART;TZID=Europe/Stockholm:20250112T100000
DTEND;TZID=Europe/Stockholm:20250112T110000
DTSTAMP:20260420T172233
CREATED:20250108T083438Z
LAST-MODIFIED:20250108T083438Z
UID:3328-1736676000-1736679600@vallentunaosseby.se
SUMMARY:Söndagsträning
DESCRIPTION:Söndagsträning Vallentuna IP vid rastkojan \n\n\n\nStart mellan 10.00 till 11.00 \n\n\n\n3 banor 2.5\, 4.3 och 5.4 km
URL:https://vallentunaosseby.se/event/sondagstraning-3/
END:VEVENT
BEGIN:VEVENT
DTSTART;TZID=Europe/Stockholm:20250114T180000
DTEND;TZID=Europe/Stockholm:20250114T193000
DTSTAMP:20260420T172233
CREATED:20241215T191235Z
LAST-MODIFIED:20241215T191243Z
UID:3248-1736877600-1736883000@vallentunaosseby.se
SUMMARY:Ungdomsträning med träning för alla
DESCRIPTION:Hagaskolan
URL:https://vallentunaosseby.se/event/ungdomstraning-med-traning-for-alla-51/
END:VEVENT
BEGIN:VEVENT
DTSTART;TZID=Europe/Stockholm:20250116T180000
DTEND;TZID=Europe/Stockholm:20250116T193000
DTSTAMP:20260420T172233
CREATED:20241103T181600Z
LAST-MODIFIED:20241103T181600Z
UID:3183-1737050400-1737055800@vallentunaosseby.se
SUMMARY:UOF nattcup 3
DESCRIPTION:Lunsen – Lunsen – Lunsen \n\n\n\nEventor – Tävlingsinformation: UBN Nattcup #3
URL:https://vallentunaosseby.se/event/uof-nattcup-3/
END:VEVENT
BEGIN:VEVENT
DTSTART;TZID=Europe/Stockholm:20250119T100000
DTEND;TZID=Europe/Stockholm:20250119T110000
DTSTAMP:20260420T172233
CREATED:20250114T185843Z
LAST-MODIFIED:20250116T113235Z
UID:3377-1737280800-1737284400@vallentunaosseby.se
SUMMARY:Söndagsträning
DESCRIPTION:Söndagsträning i Ösby i Brottby. \n\n\n\nSamling hemma hos Arksand på Ösby 35\, https://www.hitta.se/kartan?userGeo=1&_gl=1*198cqhx*_up*MQ..*_ga*NjM1MDg5NjYzLjE3MzY4ODA5Njk.*_ga_JNGVTZCC37*MTczNjg4MDk2OS4xLjAuMTczNjg4MDk2OS4wLjAuMA..&s=81d7d913 \n\n\n\nFri start mellan 10:00 och 11:00. \n\n\n\nVälkomna
URL:https://vallentunaosseby.se/event/sondagstraning-4/
END:VEVENT
BEGIN:VEVENT
DTSTART;TZID=Europe/Stockholm:20250120T190000
DTEND;TZID=Europe/Stockholm:20250120T203000
DTSTAMP:20260420T172233
CREATED:20250112T130742Z
LAST-MODIFIED:20250112T130742Z
UID:3342-1737399600-1737405000@vallentunaosseby.se
SUMMARY:Styrelsemöte
DESCRIPTION:Plats: Klubbstugan
URL:https://vallentunaosseby.se/event/styrelsemote-21/
END:VEVENT
BEGIN:VEVENT
DTSTART;TZID=Europe/Stockholm:20250121T180000
DTEND;TZID=Europe/Stockholm:20250121T193000
DTSTAMP:20260420T172233
CREATED:20241215T191455Z
LAST-MODIFIED:20250107T221842Z
UID:3253-1737482400-1737487800@vallentunaosseby.se
SUMMARY:PB vintercup 1
DESCRIPTION:Läs mer här: PB-vintercup 2025
URL:https://vallentunaosseby.se/event/pb-vintercup-1-2/
END:VEVENT
BEGIN:VEVENT
DTSTART;TZID=Europe/Stockholm:20250123T180000
DTEND;TZID=Europe/Stockholm:20250123T210000
DTSTAMP:20260420T172233
CREATED:20241101T192119Z
LAST-MODIFIED:20241117T162038Z
UID:3163-1737655200-1737666000@vallentunaosseby.se
SUMMARY:Nattråttan etapp 3
DESCRIPTION:Eventor – Tävlingsinformation: Nattråttan etapp 3
URL:https://vallentunaosseby.se/event/nattrattan-etapp-3-2/
END:VEVENT
BEGIN:VEVENT
DTSTART;TZID=Europe/Stockholm:20250126T100000
DTEND;TZID=Europe/Stockholm:20250126T110000
DTSTAMP:20260420T172233
CREATED:20250119T160814Z
LAST-MODIFIED:20250119T162556Z
UID:3388-1737885600-1737889200@vallentunaosseby.se
SUMMARY:Söndagsträning 26 januari
DESCRIPTION:Samling längs vägen in mot Körlinge. \n\n\n\nhttps://www.hitta.se/kartan?userGeo=1&_gl=11f3ixm1_upMQ.._gaNjU2MTQ5NTg1LjE3MzczMDIwMjU._ga_JNGVTZCC37*MTczNzMwMjAyNC4xLjAuMTczNzMwMjAyNC4wLjAuMA..&s=348994ea \n\n\n\nNärmaste adress är Körlinge 30A om du skriver in den i GPS:en. \n\n\n\nLäs mer här.
URL:https://vallentunaosseby.se/event/sondagstraning-26-januari/
END:VEVENT
BEGIN:VEVENT
DTSTART;TZID=Europe/Stockholm:20250128T180000
DTEND;TZID=Europe/Stockholm:20250128T193000
DTSTAMP:20260420T172233
CREATED:20241215T191328Z
LAST-MODIFIED:20241215T191329Z
UID:3251-1738087200-1738092600@vallentunaosseby.se
SUMMARY:Ungdomsträning med träning för alla
DESCRIPTION:Hagaskolan
URL:https://vallentunaosseby.se/event/ungdomstraning-med-traning-for-alla-52/
END:VEVENT
BEGIN:VEVENT
DTSTART;TZID=Europe/Stockholm:20250130T180000
DTEND;TZID=Europe/Stockholm:20250130T193000
DTSTAMP:20260420T172233
CREATED:20241215T192722Z
LAST-MODIFIED:20241215T192722Z
UID:3279-1738260000-1738265400@vallentunaosseby.se
SUMMARY:Torsdagsträning
DESCRIPTION:
URL:https://vallentunaosseby.se/event/torsdagstraning-14/
END:VEVENT
END:VCALENDAR